BEGIN:VCALENDAR
VERSION:2.0
PRODID:-//Conexión Laboral Sureste - ECPv6.15.20//NONSGML v1.0//EN
CALSCALE:GREGORIAN
METHOD:PUBLISH
X-ORIGINAL-URL:https://conexionlaboralsurestepr.org
X-WR-CALDESC:Events for Conexión Laboral Sureste
REFRESH-INTERVAL;VALUE=DURATION:PT1H
X-Robots-Tag:noindex
X-PUBLISHED-TTL:PT1H
BEGIN:VTIMEZONE
TZID:America/Puerto_Rico
BEGIN:STANDARD
TZOFFSETFROM:-0400
TZOFFSETTO:-0400
TZNAME:AST
DTSTART:20270101T000000
END:STANDARD
END:VTIMEZONE
BEGIN:VEVENT
DTSTART;TZID=America/Puerto_Rico:20281009T080000
DTEND;TZID=America/Puerto_Rico:20281009T163000
DTSTAMP:20260424T221523
CREATED:20251031T153427Z
LAST-MODIFIED:20251031T173748Z
UID:10000768-1854691200-1854721800@conexionlaboralsurestepr.org
SUMMARY:Visita Socio | Título I - B
DESCRIPTION:Programa Jóvenes\, Adultos y Desplazados
URL:https://conexionlaboralsurestepr.org/event/visita-socios-titulo-i-b/2028-10-09/
LOCATION:Las Piedras
CATEGORIES:Socios
END:VEVENT
BEGIN:VEVENT
DTSTART;TZID=America/Puerto_Rico:20281009T080000
DTEND;TZID=America/Puerto_Rico:20281009T163000
DTSTAMP:20260424T221523
CREATED:20251031T173045Z
LAST-MODIFIED:20251204T204704Z
UID:10002594-1854691200-1854721800@conexionlaboralsurestepr.org
SUMMARY:Visita Socio | Departamento del Trabajo y Recursos Humanos (DTRH)
DESCRIPTION:Programa Veteranos (Capítulo 41 Título 38 del Código de EU)\nServicio de Empleo\, Programa Agrícola y Programa RESEA\nPrograma Seguro por Desempleo
URL:https://conexionlaboralsurestepr.org/event/vista-socio-departamento-del-trabajo-y-recursos-humanos-dtrh/2028-10-09/
LOCATION:Las Piedras
CATEGORIES:Socios
END:VEVENT
BEGIN:VEVENT
DTSTART;TZID=America/Puerto_Rico:20281009T080000
DTEND;TZID=America/Puerto_Rico:20281009T163000
DTSTAMP:20260424T221523
CREATED:20251103T185220Z
LAST-MODIFIED:20251204T204656Z
UID:10005039-1854691200-1854721800@conexionlaboralsurestepr.org
SUMMARY:Visita Socio | One Stop Careers Center of PR
DESCRIPTION:Programa de Reintegración de Ex-Ofensores bajo Second Change Act
URL:https://conexionlaboralsurestepr.org/event/vista-socio-one-stop-careers-center-of-pr/2028-10-09/
LOCATION:Las Piedras
CATEGORIES:Socios
END:VEVENT
BEGIN:VEVENT
DTSTART;TZID=America/Puerto_Rico:20281010T080000
DTEND;TZID=America/Puerto_Rico:20281010T163000
DTSTAMP:20260424T221523
CREATED:20251031T153427Z
LAST-MODIFIED:20251031T173748Z
UID:10000769-1854777600-1854808200@conexionlaboralsurestepr.org
SUMMARY:Visita Socio | Título I - B
DESCRIPTION:Programa Jóvenes\, Adultos y Desplazados
URL:https://conexionlaboralsurestepr.org/event/visita-socios-titulo-i-b/2028-10-10/
LOCATION:Las Piedras
CATEGORIES:Socios
END:VEVENT
BEGIN:VEVENT
DTSTART;TZID=America/Puerto_Rico:20281010T080000
DTEND;TZID=America/Puerto_Rico:20281010T163000
DTSTAMP:20260424T221523
CREATED:20251031T173045Z
LAST-MODIFIED:20251204T204704Z
UID:10002595-1854777600-1854808200@conexionlaboralsurestepr.org
SUMMARY:Visita Socio | Departamento del Trabajo y Recursos Humanos (DTRH)
DESCRIPTION:Programa Veteranos (Capítulo 41 Título 38 del Código de EU)\nServicio de Empleo\, Programa Agrícola y Programa RESEA\nPrograma Seguro por Desempleo
URL:https://conexionlaboralsurestepr.org/event/vista-socio-departamento-del-trabajo-y-recursos-humanos-dtrh/2028-10-10/
LOCATION:Las Piedras
CATEGORIES:Socios
END:VEVENT
BEGIN:VEVENT
DTSTART;TZID=America/Puerto_Rico:20281010T080000
DTEND;TZID=America/Puerto_Rico:20281010T163000
DTSTAMP:20260424T221523
CREATED:20251103T185220Z
LAST-MODIFIED:20251204T204656Z
UID:10005040-1854777600-1854808200@conexionlaboralsurestepr.org
SUMMARY:Visita Socio | One Stop Careers Center of PR
DESCRIPTION:Programa de Reintegración de Ex-Ofensores bajo Second Change Act
URL:https://conexionlaboralsurestepr.org/event/vista-socio-one-stop-careers-center-of-pr/2028-10-10/
LOCATION:Las Piedras
CATEGORIES:Socios
END:VEVENT
BEGIN:VEVENT
DTSTART;TZID=America/Puerto_Rico:20281011T080000
DTEND;TZID=America/Puerto_Rico:20281011T120000
DTSTAMP:20260424T221523
CREATED:20251103T185047Z
LAST-MODIFIED:20251204T204622Z
UID:10003959-1854864000-1854878400@conexionlaboralsurestepr.org
SUMMARY:Visita Socio | Título IV - "Social Security Act" Departamento de la Familia
DESCRIPTION:Programa TANF (Temporary Assistance for Needy Families)
URL:https://conexionlaboralsurestepr.org/event/vista-socio-titulo-iv-social-security-act-departamento-de-la-familia/2028-10-11/
LOCATION:Las Piedras
CATEGORIES:Socios
END:VEVENT
BEGIN:VEVENT
DTSTART;TZID=America/Puerto_Rico:20281011T080000
DTEND;TZID=America/Puerto_Rico:20281011T163000
DTSTAMP:20260424T221523
CREATED:20251031T153427Z
LAST-MODIFIED:20251031T173748Z
UID:10000770-1854864000-1854894600@conexionlaboralsurestepr.org
SUMMARY:Visita Socio | Título I - B
DESCRIPTION:Programa Jóvenes\, Adultos y Desplazados
URL:https://conexionlaboralsurestepr.org/event/visita-socios-titulo-i-b/2028-10-11/
LOCATION:Las Piedras
CATEGORIES:Socios
END:VEVENT
BEGIN:VEVENT
DTSTART;TZID=America/Puerto_Rico:20281011T080000
DTEND;TZID=America/Puerto_Rico:20281011T163000
DTSTAMP:20260424T221523
CREATED:20251031T173045Z
LAST-MODIFIED:20251204T204704Z
UID:10002596-1854864000-1854894600@conexionlaboralsurestepr.org
SUMMARY:Visita Socio | Departamento del Trabajo y Recursos Humanos (DTRH)
DESCRIPTION:Programa Veteranos (Capítulo 41 Título 38 del Código de EU)\nServicio de Empleo\, Programa Agrícola y Programa RESEA\nPrograma Seguro por Desempleo
URL:https://conexionlaboralsurestepr.org/event/vista-socio-departamento-del-trabajo-y-recursos-humanos-dtrh/2028-10-11/
LOCATION:Las Piedras
CATEGORIES:Socios
END:VEVENT
BEGIN:VEVENT
DTSTART;TZID=America/Puerto_Rico:20281011T080000
DTEND;TZID=America/Puerto_Rico:20281011T163000
DTSTAMP:20260424T221523
CREATED:20251103T185220Z
LAST-MODIFIED:20251204T204656Z
UID:10005041-1854864000-1854894600@conexionlaboralsurestepr.org
SUMMARY:Visita Socio | One Stop Careers Center of PR
DESCRIPTION:Programa de Reintegración de Ex-Ofensores bajo Second Change Act
URL:https://conexionlaboralsurestepr.org/event/vista-socio-one-stop-careers-center-of-pr/2028-10-11/
LOCATION:Las Piedras
CATEGORIES:Socios
END:VEVENT
BEGIN:VEVENT
DTSTART;TZID=America/Puerto_Rico:20281012T080000
DTEND;TZID=America/Puerto_Rico:20281012T163000
DTSTAMP:20260424T221523
CREATED:20251031T153427Z
LAST-MODIFIED:20251031T173748Z
UID:10000771-1854950400-1854981000@conexionlaboralsurestepr.org
SUMMARY:Visita Socio | Título I - B
DESCRIPTION:Programa Jóvenes\, Adultos y Desplazados
URL:https://conexionlaboralsurestepr.org/event/visita-socios-titulo-i-b/2028-10-12/
LOCATION:Las Piedras
CATEGORIES:Socios
END:VEVENT
BEGIN:VEVENT
DTSTART;TZID=America/Puerto_Rico:20281012T080000
DTEND;TZID=America/Puerto_Rico:20281012T163000
DTSTAMP:20260424T221523
CREATED:20251031T173045Z
LAST-MODIFIED:20251204T204704Z
UID:10002597-1854950400-1854981000@conexionlaboralsurestepr.org
SUMMARY:Visita Socio | Departamento del Trabajo y Recursos Humanos (DTRH)
DESCRIPTION:Programa Veteranos (Capítulo 41 Título 38 del Código de EU)\nServicio de Empleo\, Programa Agrícola y Programa RESEA\nPrograma Seguro por Desempleo
URL:https://conexionlaboralsurestepr.org/event/vista-socio-departamento-del-trabajo-y-recursos-humanos-dtrh/2028-10-12/
LOCATION:Las Piedras
CATEGORIES:Socios
END:VEVENT
BEGIN:VEVENT
DTSTART;TZID=America/Puerto_Rico:20281012T080000
DTEND;TZID=America/Puerto_Rico:20281012T163000
DTSTAMP:20260424T221523
CREATED:20251103T184914Z
LAST-MODIFIED:20251204T204647Z
UID:10003689-1854950400-1854981000@conexionlaboralsurestepr.org
SUMMARY:Visita Socio | Título II - Departamento de Educación
DESCRIPTION:Programa de Educación y Literacia de Adultos
URL:https://conexionlaboralsurestepr.org/event/vista-socio-titulo-ii-departamento-de-educacion/2028-10-12/
LOCATION:Las Piedras
CATEGORIES:Socios
END:VEVENT
BEGIN:VEVENT
DTSTART;TZID=America/Puerto_Rico:20281012T080000
DTEND;TZID=America/Puerto_Rico:20281012T163000
DTSTAMP:20260424T221523
CREATED:20251103T185220Z
LAST-MODIFIED:20251204T204656Z
UID:10005042-1854950400-1854981000@conexionlaboralsurestepr.org
SUMMARY:Visita Socio | One Stop Careers Center of PR
DESCRIPTION:Programa de Reintegración de Ex-Ofensores bajo Second Change Act
URL:https://conexionlaboralsurestepr.org/event/vista-socio-one-stop-careers-center-of-pr/2028-10-12/
LOCATION:Las Piedras
CATEGORIES:Socios
END:VEVENT
BEGIN:VEVENT
DTSTART;TZID=America/Puerto_Rico:20281013T080000
DTEND;TZID=America/Puerto_Rico:20281013T163000
DTSTAMP:20260424T221523
CREATED:20251031T153427Z
LAST-MODIFIED:20251031T173748Z
UID:10001541-1855036800-1855067400@conexionlaboralsurestepr.org
SUMMARY:Visita Socio | Título I - B
DESCRIPTION:Programa Jóvenes\, Adultos y Desplazados
URL:https://conexionlaboralsurestepr.org/event/visita-socios-titulo-i-b/2028-10-13/
LOCATION:Las Piedras
CATEGORIES:Socios
END:VEVENT
BEGIN:VEVENT
DTSTART;TZID=America/Puerto_Rico:20281013T080000
DTEND;TZID=America/Puerto_Rico:20281013T163000
DTSTAMP:20260424T221523
CREATED:20251031T173045Z
LAST-MODIFIED:20251204T204704Z
UID:10002598-1855036800-1855067400@conexionlaboralsurestepr.org
SUMMARY:Visita Socio | Departamento del Trabajo y Recursos Humanos (DTRH)
DESCRIPTION:Programa Veteranos (Capítulo 41 Título 38 del Código de EU)\nServicio de Empleo\, Programa Agrícola y Programa RESEA\nPrograma Seguro por Desempleo
URL:https://conexionlaboralsurestepr.org/event/vista-socio-departamento-del-trabajo-y-recursos-humanos-dtrh/2028-10-13/
LOCATION:Las Piedras
CATEGORIES:Socios
END:VEVENT
BEGIN:VEVENT
DTSTART;TZID=America/Puerto_Rico:20281013T080000
DTEND;TZID=America/Puerto_Rico:20281013T163000
DTSTAMP:20260424T221523
CREATED:20251103T185220Z
LAST-MODIFIED:20251204T204656Z
UID:10005043-1855036800-1855067400@conexionlaboralsurestepr.org
SUMMARY:Visita Socio | One Stop Careers Center of PR
DESCRIPTION:Programa de Reintegración de Ex-Ofensores bajo Second Change Act
URL:https://conexionlaboralsurestepr.org/event/vista-socio-one-stop-careers-center-of-pr/2028-10-13/
LOCATION:Las Piedras
CATEGORIES:Socios
END:VEVENT
BEGIN:VEVENT
DTSTART;TZID=America/Puerto_Rico:20281015T080000
DTEND;TZID=America/Puerto_Rico:20281015T163000
DTSTAMP:20260424T221523
CREATED:20251103T185220Z
LAST-MODIFIED:20251204T204656Z
UID:10005044-1855209600-1855240200@conexionlaboralsurestepr.org
SUMMARY:Visita Socio | One Stop Careers Center of PR
DESCRIPTION:Programa de Reintegración de Ex-Ofensores bajo Second Change Act
URL:https://conexionlaboralsurestepr.org/event/vista-socio-one-stop-careers-center-of-pr/2028-10-15/
LOCATION:Las Piedras
CATEGORIES:Socios
END:VEVENT
BEGIN:VEVENT
DTSTART;TZID=America/Puerto_Rico:20281016T080000
DTEND;TZID=America/Puerto_Rico:20281016T163000
DTSTAMP:20260424T221523
CREATED:20251031T153427Z
LAST-MODIFIED:20251031T173748Z
UID:10000773-1855296000-1855326600@conexionlaboralsurestepr.org
SUMMARY:Visita Socio | Título I - B
DESCRIPTION:Programa Jóvenes\, Adultos y Desplazados
URL:https://conexionlaboralsurestepr.org/event/visita-socios-titulo-i-b/2028-10-16/
LOCATION:Las Piedras
CATEGORIES:Socios
END:VEVENT
BEGIN:VEVENT
DTSTART;TZID=America/Puerto_Rico:20281016T080000
DTEND;TZID=America/Puerto_Rico:20281016T163000
DTSTAMP:20260424T221523
CREATED:20251031T173045Z
LAST-MODIFIED:20251204T204704Z
UID:10002599-1855296000-1855326600@conexionlaboralsurestepr.org
SUMMARY:Visita Socio | Departamento del Trabajo y Recursos Humanos (DTRH)
DESCRIPTION:Programa Veteranos (Capítulo 41 Título 38 del Código de EU)\nServicio de Empleo\, Programa Agrícola y Programa RESEA\nPrograma Seguro por Desempleo
URL:https://conexionlaboralsurestepr.org/event/vista-socio-departamento-del-trabajo-y-recursos-humanos-dtrh/2028-10-16/
LOCATION:Las Piedras
CATEGORIES:Socios
END:VEVENT
BEGIN:VEVENT
DTSTART;TZID=America/Puerto_Rico:20281016T080000
DTEND;TZID=America/Puerto_Rico:20281016T163000
DTSTAMP:20260424T221523
CREATED:20251103T185220Z
LAST-MODIFIED:20251204T204656Z
UID:10005045-1855296000-1855326600@conexionlaboralsurestepr.org
SUMMARY:Visita Socio | One Stop Careers Center of PR
DESCRIPTION:Programa de Reintegración de Ex-Ofensores bajo Second Change Act
URL:https://conexionlaboralsurestepr.org/event/vista-socio-one-stop-careers-center-of-pr/2028-10-16/
LOCATION:Las Piedras
CATEGORIES:Socios
END:VEVENT
BEGIN:VEVENT
DTSTART;TZID=America/Puerto_Rico:20281017T080000
DTEND;TZID=America/Puerto_Rico:20281017T163000
DTSTAMP:20260424T221523
CREATED:20251031T153427Z
LAST-MODIFIED:20251031T173748Z
UID:10000774-1855382400-1855413000@conexionlaboralsurestepr.org
SUMMARY:Visita Socio | Título I - B
DESCRIPTION:Programa Jóvenes\, Adultos y Desplazados
URL:https://conexionlaboralsurestepr.org/event/visita-socios-titulo-i-b/2028-10-17/
LOCATION:Las Piedras
CATEGORIES:Socios
END:VEVENT
BEGIN:VEVENT
DTSTART;TZID=America/Puerto_Rico:20281017T080000
DTEND;TZID=America/Puerto_Rico:20281017T163000
DTSTAMP:20260424T221523
CREATED:20251031T173045Z
LAST-MODIFIED:20251204T204704Z
UID:10002600-1855382400-1855413000@conexionlaboralsurestepr.org
SUMMARY:Visita Socio | Departamento del Trabajo y Recursos Humanos (DTRH)
DESCRIPTION:Programa Veteranos (Capítulo 41 Título 38 del Código de EU)\nServicio de Empleo\, Programa Agrícola y Programa RESEA\nPrograma Seguro por Desempleo
URL:https://conexionlaboralsurestepr.org/event/vista-socio-departamento-del-trabajo-y-recursos-humanos-dtrh/2028-10-17/
LOCATION:Las Piedras
CATEGORIES:Socios
END:VEVENT
BEGIN:VEVENT
DTSTART;TZID=America/Puerto_Rico:20281017T080000
DTEND;TZID=America/Puerto_Rico:20281017T163000
DTSTAMP:20260424T221523
CREATED:20251103T185220Z
LAST-MODIFIED:20251204T204656Z
UID:10005046-1855382400-1855413000@conexionlaboralsurestepr.org
SUMMARY:Visita Socio | One Stop Careers Center of PR
DESCRIPTION:Programa de Reintegración de Ex-Ofensores bajo Second Change Act
URL:https://conexionlaboralsurestepr.org/event/vista-socio-one-stop-careers-center-of-pr/2028-10-17/
LOCATION:Las Piedras
CATEGORIES:Socios
END:VEVENT
BEGIN:VEVENT
DTSTART;TZID=America/Puerto_Rico:20281018T080000
DTEND;TZID=America/Puerto_Rico:20281018T120000
DTSTAMP:20260424T221523
CREATED:20251103T185047Z
LAST-MODIFIED:20251204T204622Z
UID:10003960-1855468800-1855483200@conexionlaboralsurestepr.org
SUMMARY:Visita Socio | Título IV - "Social Security Act" Departamento de la Familia
DESCRIPTION:Programa TANF (Temporary Assistance for Needy Families)
URL:https://conexionlaboralsurestepr.org/event/vista-socio-titulo-iv-social-security-act-departamento-de-la-familia/2028-10-18/
LOCATION:Las Piedras
CATEGORIES:Socios
END:VEVENT
BEGIN:VEVENT
DTSTART;TZID=America/Puerto_Rico:20281018T080000
DTEND;TZID=America/Puerto_Rico:20281018T163000
DTSTAMP:20260424T221523
CREATED:20251031T153427Z
LAST-MODIFIED:20251031T173748Z
UID:10000775-1855468800-1855499400@conexionlaboralsurestepr.org
SUMMARY:Visita Socio | Título I - B
DESCRIPTION:Programa Jóvenes\, Adultos y Desplazados
URL:https://conexionlaboralsurestepr.org/event/visita-socios-titulo-i-b/2028-10-18/
LOCATION:Las Piedras
CATEGORIES:Socios
END:VEVENT
BEGIN:VEVENT
DTSTART;TZID=America/Puerto_Rico:20281018T080000
DTEND;TZID=America/Puerto_Rico:20281018T163000
DTSTAMP:20260424T221523
CREATED:20251031T173045Z
LAST-MODIFIED:20251204T204704Z
UID:10002601-1855468800-1855499400@conexionlaboralsurestepr.org
SUMMARY:Visita Socio | Departamento del Trabajo y Recursos Humanos (DTRH)
DESCRIPTION:Programa Veteranos (Capítulo 41 Título 38 del Código de EU)\nServicio de Empleo\, Programa Agrícola y Programa RESEA\nPrograma Seguro por Desempleo
URL:https://conexionlaboralsurestepr.org/event/vista-socio-departamento-del-trabajo-y-recursos-humanos-dtrh/2028-10-18/
LOCATION:Las Piedras
CATEGORIES:Socios
END:VEVENT
BEGIN:VEVENT
DTSTART;TZID=America/Puerto_Rico:20281018T080000
DTEND;TZID=America/Puerto_Rico:20281018T163000
DTSTAMP:20260424T221523
CREATED:20251103T185220Z
LAST-MODIFIED:20251204T204656Z
UID:10005047-1855468800-1855499400@conexionlaboralsurestepr.org
SUMMARY:Visita Socio | One Stop Careers Center of PR
DESCRIPTION:Programa de Reintegración de Ex-Ofensores bajo Second Change Act
URL:https://conexionlaboralsurestepr.org/event/vista-socio-one-stop-careers-center-of-pr/2028-10-18/
LOCATION:Las Piedras
CATEGORIES:Socios
END:VEVENT
BEGIN:VEVENT
DTSTART;TZID=America/Puerto_Rico:20281019T080000
DTEND;TZID=America/Puerto_Rico:20281019T163000
DTSTAMP:20260424T221523
CREATED:20251031T153427Z
LAST-MODIFIED:20251031T173748Z
UID:10000776-1855555200-1855585800@conexionlaboralsurestepr.org
SUMMARY:Visita Socio | Título I - B
DESCRIPTION:Programa Jóvenes\, Adultos y Desplazados
URL:https://conexionlaboralsurestepr.org/event/visita-socios-titulo-i-b/2028-10-19/
LOCATION:Las Piedras
CATEGORIES:Socios
END:VEVENT
BEGIN:VEVENT
DTSTART;TZID=America/Puerto_Rico:20281019T080000
DTEND;TZID=America/Puerto_Rico:20281019T163000
DTSTAMP:20260424T221523
CREATED:20251031T173045Z
LAST-MODIFIED:20251204T204704Z
UID:10002602-1855555200-1855585800@conexionlaboralsurestepr.org
SUMMARY:Visita Socio | Departamento del Trabajo y Recursos Humanos (DTRH)
DESCRIPTION:Programa Veteranos (Capítulo 41 Título 38 del Código de EU)\nServicio de Empleo\, Programa Agrícola y Programa RESEA\nPrograma Seguro por Desempleo
URL:https://conexionlaboralsurestepr.org/event/vista-socio-departamento-del-trabajo-y-recursos-humanos-dtrh/2028-10-19/
LOCATION:Las Piedras
CATEGORIES:Socios
END:VEVENT
END:VCALENDAR