BEGIN:VCALENDAR
VERSION:2.0
PRODID:-//Conexión Laboral Sureste - ECPv6.15.20//NONSGML v1.0//EN
CALSCALE:GREGORIAN
METHOD:PUBLISH
X-ORIGINAL-URL:https://conexionlaboralsurestepr.org
X-WR-CALDESC:Events for Conexión Laboral Sureste
REFRESH-INTERVAL;VALUE=DURATION:PT1H
X-Robots-Tag:noindex
X-PUBLISHED-TTL:PT1H
BEGIN:VTIMEZONE
TZID:America/Puerto_Rico
BEGIN:STANDARD
TZOFFSETFROM:-0400
TZOFFSETTO:-0400
TZNAME:AST
DTSTART:20250101T000000
END:STANDARD
END:VTIMEZONE
BEGIN:VEVENT
DTSTART;TZID=America/Puerto_Rico:20260204T080000
DTEND;TZID=America/Puerto_Rico:20260204T163000
DTSTAMP:20260421T063347
CREATED:20251031T173045Z
LAST-MODIFIED:20251204T204704Z
UID:10001896-1770192000-1770222600@conexionlaboralsurestepr.org
SUMMARY:Visita Socio | Departamento del Trabajo y Recursos Humanos (DTRH)
DESCRIPTION:Programa Veteranos (Capítulo 41 Título 38 del Código de EU)\nServicio de Empleo\, Programa Agrícola y Programa RESEA\nPrograma Seguro por Desempleo
URL:https://conexionlaboralsurestepr.org/event/vista-socio-departamento-del-trabajo-y-recursos-humanos-dtrh/2026-02-04/
CATEGORIES:Socios
END:VEVENT
BEGIN:VEVENT
DTSTART;TZID=America/Puerto_Rico:20260204T080000
DTEND;TZID=America/Puerto_Rico:20260204T163000
DTSTAMP:20260421T063347
CREATED:20251031T153427Z
LAST-MODIFIED:20251031T173748Z
UID:10000070-1770192000-1770222600@conexionlaboralsurestepr.org
SUMMARY:Visita Socio | Título I - B
DESCRIPTION:Programa Jóvenes\, Adultos y Desplazados
URL:https://conexionlaboralsurestepr.org/event/visita-socios-titulo-i-b/2026-02-04/
CATEGORIES:Socios
END:VEVENT
BEGIN:VEVENT
DTSTART;TZID=America/Puerto_Rico:20260204T080000
DTEND;TZID=America/Puerto_Rico:20260204T120000
DTSTAMP:20260421T063347
CREATED:20251103T185047Z
LAST-MODIFIED:20251204T204622Z
UID:10003819-1770192000-1770206400@conexionlaboralsurestepr.org
SUMMARY:Visita Socio | Título IV - "Social Security Act" Departamento de la Familia
DESCRIPTION:Programa TANF (Temporary Assistance for Needy Families)
URL:https://conexionlaboralsurestepr.org/event/vista-socio-titulo-iv-social-security-act-departamento-de-la-familia/2026-02-04/
CATEGORIES:Socios
END:VEVENT
BEGIN:VEVENT
DTSTART;TZID=America/Puerto_Rico:20260203T080000
DTEND;TZID=America/Puerto_Rico:20260203T163000
DTSTAMP:20260421T063347
CREATED:20251103T185220Z
LAST-MODIFIED:20251204T204656Z
UID:10004200-1770105600-1770136200@conexionlaboralsurestepr.org
SUMMARY:Visita Socio | One Stop Careers Center of PR
DESCRIPTION:Programa de Reintegración de Ex-Ofensores bajo Second Change Act
URL:https://conexionlaboralsurestepr.org/event/vista-socio-one-stop-careers-center-of-pr/2026-02-03/
CATEGORIES:Socios
END:VEVENT
BEGIN:VEVENT
DTSTART;TZID=America/Puerto_Rico:20260203T080000
DTEND;TZID=America/Puerto_Rico:20260203T163000
DTSTAMP:20260421T063347
CREATED:20251031T173045Z
LAST-MODIFIED:20251204T204704Z
UID:10001895-1770105600-1770136200@conexionlaboralsurestepr.org
SUMMARY:Visita Socio | Departamento del Trabajo y Recursos Humanos (DTRH)
DESCRIPTION:Programa Veteranos (Capítulo 41 Título 38 del Código de EU)\nServicio de Empleo\, Programa Agrícola y Programa RESEA\nPrograma Seguro por Desempleo
URL:https://conexionlaboralsurestepr.org/event/vista-socio-departamento-del-trabajo-y-recursos-humanos-dtrh/2026-02-03/
CATEGORIES:Socios
END:VEVENT
BEGIN:VEVENT
DTSTART;TZID=America/Puerto_Rico:20260203T080000
DTEND;TZID=America/Puerto_Rico:20260203T163000
DTSTAMP:20260421T063347
CREATED:20251031T153427Z
LAST-MODIFIED:20251031T173748Z
UID:10000069-1770105600-1770136200@conexionlaboralsurestepr.org
SUMMARY:Visita Socio | Título I - B
DESCRIPTION:Programa Jóvenes\, Adultos y Desplazados
URL:https://conexionlaboralsurestepr.org/event/visita-socios-titulo-i-b/2026-02-03/
CATEGORIES:Socios
END:VEVENT
BEGIN:VEVENT
DTSTART;TZID=America/Puerto_Rico:20260203T080000
DTEND;TZID=America/Puerto_Rico:20260203T120000
DTSTAMP:20260421T063347
CREATED:20251103T184621Z
LAST-MODIFIED:20251204T204632Z
UID:10003470-1770105600-1770120000@conexionlaboralsurestepr.org
SUMMARY:Visita Socio | Título V - Old American Act
DESCRIPTION:Senior Community Services Employment Programs
URL:https://conexionlaboralsurestepr.org/event/vista-socio-titulo-v-old-american-act/2026-02-03/
CATEGORIES:Socios
END:VEVENT
BEGIN:VEVENT
DTSTART;TZID=America/Puerto_Rico:20260203T080000
DTEND;TZID=America/Puerto_Rico:20260203T120000
DTSTAMP:20260421T063347
CREATED:20251103T184454Z
LAST-MODIFIED:20251204T204641Z
UID:10003408-1770105600-1770120000@conexionlaboralsurestepr.org
SUMMARY:Visita Socio | PathStone Corporation (Rural)
DESCRIPTION:Programa para Trabajadores Agrícolas Migrantes y Estacionales.\nPrograma Youth Build
URL:https://conexionlaboralsurestepr.org/event/vista-socio-pathstone-corporation-rural/2026-02-03/
CATEGORIES:Socios
END:VEVENT
BEGIN:VEVENT
DTSTART;TZID=America/Puerto_Rico:20260202T080000
DTEND;TZID=America/Puerto_Rico:20260202T163000
DTSTAMP:20260421T063347
CREATED:20251103T185220Z
LAST-MODIFIED:20251204T204656Z
UID:10004199-1770019200-1770049800@conexionlaboralsurestepr.org
SUMMARY:Visita Socio | One Stop Careers Center of PR
DESCRIPTION:Programa de Reintegración de Ex-Ofensores bajo Second Change Act
URL:https://conexionlaboralsurestepr.org/event/vista-socio-one-stop-careers-center-of-pr/2026-02-02/
CATEGORIES:Socios
END:VEVENT
BEGIN:VEVENT
DTSTART;TZID=America/Puerto_Rico:20260202T080000
DTEND;TZID=America/Puerto_Rico:20260202T163000
DTSTAMP:20260421T063347
CREATED:20251031T173045Z
LAST-MODIFIED:20251204T204704Z
UID:10001894-1770019200-1770049800@conexionlaboralsurestepr.org
SUMMARY:Visita Socio | Departamento del Trabajo y Recursos Humanos (DTRH)
DESCRIPTION:Programa Veteranos (Capítulo 41 Título 38 del Código de EU)\nServicio de Empleo\, Programa Agrícola y Programa RESEA\nPrograma Seguro por Desempleo
URL:https://conexionlaboralsurestepr.org/event/vista-socio-departamento-del-trabajo-y-recursos-humanos-dtrh/2026-02-02/
CATEGORIES:Socios
END:VEVENT
BEGIN:VEVENT
DTSTART;TZID=America/Puerto_Rico:20260202T080000
DTEND;TZID=America/Puerto_Rico:20260202T163000
DTSTAMP:20260421T063347
CREATED:20251031T153427Z
LAST-MODIFIED:20251031T173748Z
UID:10000068-1770019200-1770049800@conexionlaboralsurestepr.org
SUMMARY:Visita Socio | Título I - B
DESCRIPTION:Programa Jóvenes\, Adultos y Desplazados
URL:https://conexionlaboralsurestepr.org/event/visita-socios-titulo-i-b/2026-02-02/
CATEGORIES:Socios
END:VEVENT
BEGIN:VEVENT
DTSTART;TZID=America/Puerto_Rico:20260202T080000
DTEND;TZID=America/Puerto_Rico:20260202T120000
DTSTAMP:20260421T063347
CREATED:20251103T184249Z
LAST-MODIFIED:20251204T204710Z
UID:10003346-1770019200-1770033600@conexionlaboralsurestepr.org
SUMMARY:Visita Socio | Título I | Administración de Rehabilitación Vocacional
DESCRIPTION:Programa de Adiestramiento y Empleo Rehabilitación Vocacional
URL:https://conexionlaboralsurestepr.org/event/vista-socio-titulo-i-administracion-de-rehabilitacion-vocacional/2026-02-02/
CATEGORIES:Socios
END:VEVENT
BEGIN:VEVENT
DTSTART;TZID=America/Puerto_Rico:20260201T080000
DTEND;TZID=America/Puerto_Rico:20260201T163000
DTSTAMP:20260421T063347
CREATED:20251103T185220Z
LAST-MODIFIED:20251204T204656Z
UID:10004198-1769932800-1769963400@conexionlaboralsurestepr.org
SUMMARY:Visita Socio | One Stop Careers Center of PR
DESCRIPTION:Programa de Reintegración de Ex-Ofensores bajo Second Change Act
URL:https://conexionlaboralsurestepr.org/event/vista-socio-one-stop-careers-center-of-pr/2026-02-01/
CATEGORIES:Socios
END:VEVENT
BEGIN:VEVENT
DTSTART;TZID=America/Puerto_Rico:20260130T080000
DTEND;TZID=America/Puerto_Rico:20260130T163000
DTSTAMP:20260421T063347
CREATED:20251103T185220Z
LAST-MODIFIED:20251204T204656Z
UID:10004197-1769760000-1769790600@conexionlaboralsurestepr.org
SUMMARY:Visita Socio | One Stop Careers Center of PR
DESCRIPTION:Programa de Reintegración de Ex-Ofensores bajo Second Change Act
URL:https://conexionlaboralsurestepr.org/event/vista-socio-one-stop-careers-center-of-pr/2026-01-30/
CATEGORIES:Socios
END:VEVENT
BEGIN:VEVENT
DTSTART;TZID=America/Puerto_Rico:20260130T080000
DTEND;TZID=America/Puerto_Rico:20260130T163000
DTSTAMP:20260421T063347
CREATED:20251031T173045Z
LAST-MODIFIED:20251204T204704Z
UID:10001893-1769760000-1769790600@conexionlaboralsurestepr.org
SUMMARY:Visita Socio | Departamento del Trabajo y Recursos Humanos (DTRH)
DESCRIPTION:Programa Veteranos (Capítulo 41 Título 38 del Código de EU)\nServicio de Empleo\, Programa Agrícola y Programa RESEA\nPrograma Seguro por Desempleo
URL:https://conexionlaboralsurestepr.org/event/vista-socio-departamento-del-trabajo-y-recursos-humanos-dtrh/2026-01-30/
CATEGORIES:Socios
END:VEVENT
BEGIN:VEVENT
DTSTART;TZID=America/Puerto_Rico:20260130T080000
DTEND;TZID=America/Puerto_Rico:20260130T163000
DTSTAMP:20260421T063347
CREATED:20251031T153427Z
LAST-MODIFIED:20251031T173748Z
UID:10001669-1769760000-1769790600@conexionlaboralsurestepr.org
SUMMARY:Visita Socio | Título I - B
DESCRIPTION:Programa Jóvenes\, Adultos y Desplazados
URL:https://conexionlaboralsurestepr.org/event/visita-socios-titulo-i-b/2026-01-30/
CATEGORIES:Socios
END:VEVENT
BEGIN:VEVENT
DTSTART;TZID=America/Puerto_Rico:20260129T080000
DTEND;TZID=America/Puerto_Rico:20260129T163000
DTSTAMP:20260421T063347
CREATED:20251103T185220Z
LAST-MODIFIED:20251204T204656Z
UID:10004196-1769673600-1769704200@conexionlaboralsurestepr.org
SUMMARY:Visita Socio | One Stop Careers Center of PR
DESCRIPTION:Programa de Reintegración de Ex-Ofensores bajo Second Change Act
URL:https://conexionlaboralsurestepr.org/event/vista-socio-one-stop-careers-center-of-pr/2026-01-29/
CATEGORIES:Socios
END:VEVENT
BEGIN:VEVENT
DTSTART;TZID=America/Puerto_Rico:20260129T080000
DTEND;TZID=America/Puerto_Rico:20260129T163000
DTSTAMP:20260421T063347
CREATED:20251103T184914Z
LAST-MODIFIED:20251204T204647Z
UID:10003548-1769673600-1769704200@conexionlaboralsurestepr.org
SUMMARY:Visita Socio | Título II - Departamento de Educación
DESCRIPTION:Programa de Educación y Literacia de Adultos
URL:https://conexionlaboralsurestepr.org/event/vista-socio-titulo-ii-departamento-de-educacion/2026-01-29/
CATEGORIES:Socios
END:VEVENT
BEGIN:VEVENT
DTSTART;TZID=America/Puerto_Rico:20260129T080000
DTEND;TZID=America/Puerto_Rico:20260129T163000
DTSTAMP:20260421T063347
CREATED:20251031T173045Z
LAST-MODIFIED:20251204T204704Z
UID:10001892-1769673600-1769704200@conexionlaboralsurestepr.org
SUMMARY:Visita Socio | Departamento del Trabajo y Recursos Humanos (DTRH)
DESCRIPTION:Programa Veteranos (Capítulo 41 Título 38 del Código de EU)\nServicio de Empleo\, Programa Agrícola y Programa RESEA\nPrograma Seguro por Desempleo
URL:https://conexionlaboralsurestepr.org/event/vista-socio-departamento-del-trabajo-y-recursos-humanos-dtrh/2026-01-29/
CATEGORIES:Socios
END:VEVENT
BEGIN:VEVENT
DTSTART;TZID=America/Puerto_Rico:20260129T080000
DTEND;TZID=America/Puerto_Rico:20260129T163000
DTSTAMP:20260421T063347
CREATED:20251031T153427Z
LAST-MODIFIED:20251031T173748Z
UID:10000066-1769673600-1769704200@conexionlaboralsurestepr.org
SUMMARY:Visita Socio | Título I - B
DESCRIPTION:Programa Jóvenes\, Adultos y Desplazados
URL:https://conexionlaboralsurestepr.org/event/visita-socios-titulo-i-b/2026-01-29/
CATEGORIES:Socios
END:VEVENT
BEGIN:VEVENT
DTSTART;TZID=America/Puerto_Rico:20260128T080000
DTEND;TZID=America/Puerto_Rico:20260128T163000
DTSTAMP:20260421T063347
CREATED:20251103T185220Z
LAST-MODIFIED:20251204T204656Z
UID:10004195-1769587200-1769617800@conexionlaboralsurestepr.org
SUMMARY:Visita Socio | One Stop Careers Center of PR
DESCRIPTION:Programa de Reintegración de Ex-Ofensores bajo Second Change Act
URL:https://conexionlaboralsurestepr.org/event/vista-socio-one-stop-careers-center-of-pr/2026-01-28/
CATEGORIES:Socios
END:VEVENT
BEGIN:VEVENT
DTSTART;TZID=America/Puerto_Rico:20260128T080000
DTEND;TZID=America/Puerto_Rico:20260128T163000
DTSTAMP:20260421T063347
CREATED:20251031T173045Z
LAST-MODIFIED:20251204T204704Z
UID:10001891-1769587200-1769617800@conexionlaboralsurestepr.org
SUMMARY:Visita Socio | Departamento del Trabajo y Recursos Humanos (DTRH)
DESCRIPTION:Programa Veteranos (Capítulo 41 Título 38 del Código de EU)\nServicio de Empleo\, Programa Agrícola y Programa RESEA\nPrograma Seguro por Desempleo
URL:https://conexionlaboralsurestepr.org/event/vista-socio-departamento-del-trabajo-y-recursos-humanos-dtrh/2026-01-28/
CATEGORIES:Socios
END:VEVENT
BEGIN:VEVENT
DTSTART;TZID=America/Puerto_Rico:20260128T080000
DTEND;TZID=America/Puerto_Rico:20260128T163000
DTSTAMP:20260421T063347
CREATED:20251031T153427Z
LAST-MODIFIED:20251031T173748Z
UID:10000065-1769587200-1769617800@conexionlaboralsurestepr.org
SUMMARY:Visita Socio | Título I - B
DESCRIPTION:Programa Jóvenes\, Adultos y Desplazados
URL:https://conexionlaboralsurestepr.org/event/visita-socios-titulo-i-b/2026-01-28/
CATEGORIES:Socios
END:VEVENT
BEGIN:VEVENT
DTSTART;TZID=America/Puerto_Rico:20260128T080000
DTEND;TZID=America/Puerto_Rico:20260128T120000
DTSTAMP:20260421T063347
CREATED:20251103T185047Z
LAST-MODIFIED:20251204T204622Z
UID:10003818-1769587200-1769601600@conexionlaboralsurestepr.org
SUMMARY:Visita Socio | Título IV - "Social Security Act" Departamento de la Familia
DESCRIPTION:Programa TANF (Temporary Assistance for Needy Families)
URL:https://conexionlaboralsurestepr.org/event/vista-socio-titulo-iv-social-security-act-departamento-de-la-familia/2026-01-28/
CATEGORIES:Socios
END:VEVENT
BEGIN:VEVENT
DTSTART;TZID=America/Puerto_Rico:20260127T080000
DTEND;TZID=America/Puerto_Rico:20260127T163000
DTSTAMP:20260421T063347
CREATED:20251103T185220Z
LAST-MODIFIED:20251204T204656Z
UID:10004194-1769500800-1769531400@conexionlaboralsurestepr.org
SUMMARY:Visita Socio | One Stop Careers Center of PR
DESCRIPTION:Programa de Reintegración de Ex-Ofensores bajo Second Change Act
URL:https://conexionlaboralsurestepr.org/event/vista-socio-one-stop-careers-center-of-pr/2026-01-27/
CATEGORIES:Socios
END:VEVENT
BEGIN:VEVENT
DTSTART;TZID=America/Puerto_Rico:20260127T080000
DTEND;TZID=America/Puerto_Rico:20260127T163000
DTSTAMP:20260421T063347
CREATED:20251031T173045Z
LAST-MODIFIED:20251204T204704Z
UID:10001890-1769500800-1769531400@conexionlaboralsurestepr.org
SUMMARY:Visita Socio | Departamento del Trabajo y Recursos Humanos (DTRH)
DESCRIPTION:Programa Veteranos (Capítulo 41 Título 38 del Código de EU)\nServicio de Empleo\, Programa Agrícola y Programa RESEA\nPrograma Seguro por Desempleo
URL:https://conexionlaboralsurestepr.org/event/vista-socio-departamento-del-trabajo-y-recursos-humanos-dtrh/2026-01-27/
CATEGORIES:Socios
END:VEVENT
BEGIN:VEVENT
DTSTART;TZID=America/Puerto_Rico:20260127T080000
DTEND;TZID=America/Puerto_Rico:20260127T163000
DTSTAMP:20260421T063347
CREATED:20251031T153427Z
LAST-MODIFIED:20251031T173748Z
UID:10000064-1769500800-1769531400@conexionlaboralsurestepr.org
SUMMARY:Visita Socio | Título I - B
DESCRIPTION:Programa Jóvenes\, Adultos y Desplazados
URL:https://conexionlaboralsurestepr.org/event/visita-socios-titulo-i-b/2026-01-27/
CATEGORIES:Socios
END:VEVENT
BEGIN:VEVENT
DTSTART;TZID=America/Puerto_Rico:20260126T080000
DTEND;TZID=America/Puerto_Rico:20260126T163000
DTSTAMP:20260421T063347
CREATED:20251103T185220Z
LAST-MODIFIED:20251204T204656Z
UID:10004193-1769414400-1769445000@conexionlaboralsurestepr.org
SUMMARY:Visita Socio | One Stop Careers Center of PR
DESCRIPTION:Programa de Reintegración de Ex-Ofensores bajo Second Change Act
URL:https://conexionlaboralsurestepr.org/event/vista-socio-one-stop-careers-center-of-pr/2026-01-26/
CATEGORIES:Socios
END:VEVENT
BEGIN:VEVENT
DTSTART;TZID=America/Puerto_Rico:20260126T080000
DTEND;TZID=America/Puerto_Rico:20260126T163000
DTSTAMP:20260421T063347
CREATED:20251031T173045Z
LAST-MODIFIED:20251204T204704Z
UID:10001889-1769414400-1769445000@conexionlaboralsurestepr.org
SUMMARY:Visita Socio | Departamento del Trabajo y Recursos Humanos (DTRH)
DESCRIPTION:Programa Veteranos (Capítulo 41 Título 38 del Código de EU)\nServicio de Empleo\, Programa Agrícola y Programa RESEA\nPrograma Seguro por Desempleo
URL:https://conexionlaboralsurestepr.org/event/vista-socio-departamento-del-trabajo-y-recursos-humanos-dtrh/2026-01-26/
CATEGORIES:Socios
END:VEVENT
BEGIN:VEVENT
DTSTART;TZID=America/Puerto_Rico:20260126T080000
DTEND;TZID=America/Puerto_Rico:20260126T163000
DTSTAMP:20260421T063347
CREATED:20251031T153427Z
LAST-MODIFIED:20251031T173748Z
UID:10000063-1769414400-1769445000@conexionlaboralsurestepr.org
SUMMARY:Visita Socio | Título I - B
DESCRIPTION:Programa Jóvenes\, Adultos y Desplazados
URL:https://conexionlaboralsurestepr.org/event/visita-socios-titulo-i-b/2026-01-26/
CATEGORIES:Socios
END:VEVENT
END:VCALENDAR