BEGIN:VCALENDAR
VERSION:2.0
PRODID:-//Conexión Laboral Sureste - ECPv6.15.20//NONSGML v1.0//EN
CALSCALE:GREGORIAN
METHOD:PUBLISH
X-WR-CALNAME:Conexión Laboral Sureste
X-ORIGINAL-URL:https://conexionlaboralsurestepr.org
X-WR-CALDESC:Events for Conexión Laboral Sureste
REFRESH-INTERVAL;VALUE=DURATION:PT1H
X-Robots-Tag:noindex
X-PUBLISHED-TTL:PT1H
BEGIN:VTIMEZONE
TZID:America/Puerto_Rico
BEGIN:STANDARD
TZOFFSETFROM:-0400
TZOFFSETTO:-0400
TZNAME:AST
DTSTART:20250101T000000
END:STANDARD
END:VTIMEZONE
BEGIN:VEVENT
DTSTART;TZID=America/Puerto_Rico:20261201T080000
DTEND;TZID=America/Puerto_Rico:20261201T120000
DTSTAMP:20260419T130658
CREATED:20251103T184454Z
LAST-MODIFIED:20251204T204641Z
UID:10003418-1796112000-1796126400@conexionlaboralsurestepr.org
SUMMARY:Visita Socio | PathStone Corporation (Rural)
DESCRIPTION:Programa para Trabajadores Agrícolas Migrantes y Estacionales.\nPrograma Youth Build
URL:https://conexionlaboralsurestepr.org/event/vista-socio-pathstone-corporation-rural/2026-12-01/
LOCATION:Las Piedras
CATEGORIES:Socios
END:VEVENT
BEGIN:VEVENT
DTSTART;TZID=America/Puerto_Rico:20261201T080000
DTEND;TZID=America/Puerto_Rico:20261201T120000
DTSTAMP:20260419T130658
CREATED:20251103T184621Z
LAST-MODIFIED:20251204T204632Z
UID:10003480-1796112000-1796126400@conexionlaboralsurestepr.org
SUMMARY:Visita Socio | Título V - Old American Act
DESCRIPTION:Senior Community Services Employment Programs
URL:https://conexionlaboralsurestepr.org/event/vista-socio-titulo-v-old-american-act/2026-12-01/
LOCATION:Las Piedras
CATEGORIES:Socios
END:VEVENT
BEGIN:VEVENT
DTSTART;TZID=America/Puerto_Rico:20261201T080000
DTEND;TZID=America/Puerto_Rico:20261201T163000
DTSTAMP:20260419T130658
CREATED:20251031T173045Z
LAST-MODIFIED:20251204T204704Z
UID:10002110-1796112000-1796142600@conexionlaboralsurestepr.org
SUMMARY:Visita Socio | Departamento del Trabajo y Recursos Humanos (DTRH)
DESCRIPTION:Programa Veteranos (Capítulo 41 Título 38 del Código de EU)\nServicio de Empleo\, Programa Agrícola y Programa RESEA\nPrograma Seguro por Desempleo
URL:https://conexionlaboralsurestepr.org/event/vista-socio-departamento-del-trabajo-y-recursos-humanos-dtrh/2026-12-01/
LOCATION:Las Piedras
CATEGORIES:Socios
END:VEVENT
BEGIN:VEVENT
DTSTART;TZID=America/Puerto_Rico:20261201T080000
DTEND;TZID=America/Puerto_Rico:20261201T163000
DTSTAMP:20260419T130658
CREATED:20251103T185220Z
LAST-MODIFIED:20251204T204656Z
UID:10004458-1796112000-1796142600@conexionlaboralsurestepr.org
SUMMARY:Visita Socio | One Stop Careers Center of PR
DESCRIPTION:Programa de Reintegración de Ex-Ofensores bajo Second Change Act
URL:https://conexionlaboralsurestepr.org/event/vista-socio-one-stop-careers-center-of-pr/2026-12-01/
LOCATION:Las Piedras
CATEGORIES:Socios
END:VEVENT
BEGIN:VEVENT
DTSTART;TZID=America/Puerto_Rico:20261202T080000
DTEND;TZID=America/Puerto_Rico:20261202T120000
DTSTAMP:20260419T130658
CREATED:20251103T185047Z
LAST-MODIFIED:20251204T204622Z
UID:10003862-1796198400-1796212800@conexionlaboralsurestepr.org
SUMMARY:Visita Socio | Título IV - "Social Security Act" Departamento de la Familia
DESCRIPTION:Programa TANF (Temporary Assistance for Needy Families)
URL:https://conexionlaboralsurestepr.org/event/vista-socio-titulo-iv-social-security-act-departamento-de-la-familia/2026-12-02/
LOCATION:Las Piedras
CATEGORIES:Socios
END:VEVENT
BEGIN:VEVENT
DTSTART;TZID=America/Puerto_Rico:20261202T080000
DTEND;TZID=America/Puerto_Rico:20261202T163000
DTSTAMP:20260419T130658
CREATED:20251031T173045Z
LAST-MODIFIED:20251204T204704Z
UID:10002111-1796198400-1796229000@conexionlaboralsurestepr.org
SUMMARY:Visita Socio | Departamento del Trabajo y Recursos Humanos (DTRH)
DESCRIPTION:Programa Veteranos (Capítulo 41 Título 38 del Código de EU)\nServicio de Empleo\, Programa Agrícola y Programa RESEA\nPrograma Seguro por Desempleo
URL:https://conexionlaboralsurestepr.org/event/vista-socio-departamento-del-trabajo-y-recursos-humanos-dtrh/2026-12-02/
LOCATION:Las Piedras
CATEGORIES:Socios
END:VEVENT
BEGIN:VEVENT
DTSTART;TZID=America/Puerto_Rico:20261202T080000
DTEND;TZID=America/Puerto_Rico:20261202T163000
DTSTAMP:20260419T130658
CREATED:20251103T185220Z
LAST-MODIFIED:20251204T204656Z
UID:10004459-1796198400-1796229000@conexionlaboralsurestepr.org
SUMMARY:Visita Socio | One Stop Careers Center of PR
DESCRIPTION:Programa de Reintegración de Ex-Ofensores bajo Second Change Act
URL:https://conexionlaboralsurestepr.org/event/vista-socio-one-stop-careers-center-of-pr/2026-12-02/
LOCATION:Las Piedras
CATEGORIES:Socios
END:VEVENT
BEGIN:VEVENT
DTSTART;TZID=America/Puerto_Rico:20261203T080000
DTEND;TZID=America/Puerto_Rico:20261203T163000
DTSTAMP:20260419T130658
CREATED:20251031T173045Z
LAST-MODIFIED:20251204T204704Z
UID:10002112-1796284800-1796315400@conexionlaboralsurestepr.org
SUMMARY:Visita Socio | Departamento del Trabajo y Recursos Humanos (DTRH)
DESCRIPTION:Programa Veteranos (Capítulo 41 Título 38 del Código de EU)\nServicio de Empleo\, Programa Agrícola y Programa RESEA\nPrograma Seguro por Desempleo
URL:https://conexionlaboralsurestepr.org/event/vista-socio-departamento-del-trabajo-y-recursos-humanos-dtrh/2026-12-03/
LOCATION:Las Piedras
CATEGORIES:Socios
END:VEVENT
BEGIN:VEVENT
DTSTART;TZID=America/Puerto_Rico:20261203T080000
DTEND;TZID=America/Puerto_Rico:20261203T163000
DTSTAMP:20260419T130658
CREATED:20251103T184914Z
LAST-MODIFIED:20251204T204647Z
UID:10003592-1796284800-1796315400@conexionlaboralsurestepr.org
SUMMARY:Visita Socio | Título II - Departamento de Educación
DESCRIPTION:Programa de Educación y Literacia de Adultos
URL:https://conexionlaboralsurestepr.org/event/vista-socio-titulo-ii-departamento-de-educacion/2026-12-03/
LOCATION:Las Piedras
CATEGORIES:Socios
END:VEVENT
BEGIN:VEVENT
DTSTART;TZID=America/Puerto_Rico:20261203T080000
DTEND;TZID=America/Puerto_Rico:20261203T163000
DTSTAMP:20260419T130658
CREATED:20251103T185220Z
LAST-MODIFIED:20251204T204656Z
UID:10004460-1796284800-1796315400@conexionlaboralsurestepr.org
SUMMARY:Visita Socio | One Stop Careers Center of PR
DESCRIPTION:Programa de Reintegración de Ex-Ofensores bajo Second Change Act
URL:https://conexionlaboralsurestepr.org/event/vista-socio-one-stop-careers-center-of-pr/2026-12-03/
LOCATION:Las Piedras
CATEGORIES:Socios
END:VEVENT
BEGIN:VEVENT
DTSTART;TZID=America/Puerto_Rico:20261204T080000
DTEND;TZID=America/Puerto_Rico:20261204T163000
DTSTAMP:20260419T130658
CREATED:20251031T153427Z
LAST-MODIFIED:20251031T173748Z
UID:10001444-1796371200-1796401800@conexionlaboralsurestepr.org
SUMMARY:Visita Socio | Título I - B
DESCRIPTION:Programa Jóvenes\, Adultos y Desplazados
URL:https://conexionlaboralsurestepr.org/event/visita-socios-titulo-i-b/2026-12-04/
LOCATION:Las Piedras
CATEGORIES:Socios
END:VEVENT
BEGIN:VEVENT
DTSTART;TZID=America/Puerto_Rico:20261204T080000
DTEND;TZID=America/Puerto_Rico:20261204T163000
DTSTAMP:20260419T130658
CREATED:20251031T173045Z
LAST-MODIFIED:20251204T204704Z
UID:10002113-1796371200-1796401800@conexionlaboralsurestepr.org
SUMMARY:Visita Socio | Departamento del Trabajo y Recursos Humanos (DTRH)
DESCRIPTION:Programa Veteranos (Capítulo 41 Título 38 del Código de EU)\nServicio de Empleo\, Programa Agrícola y Programa RESEA\nPrograma Seguro por Desempleo
URL:https://conexionlaboralsurestepr.org/event/vista-socio-departamento-del-trabajo-y-recursos-humanos-dtrh/2026-12-04/
LOCATION:Las Piedras
CATEGORIES:Socios
END:VEVENT
BEGIN:VEVENT
DTSTART;TZID=America/Puerto_Rico:20261204T080000
DTEND;TZID=America/Puerto_Rico:20261204T163000
DTSTAMP:20260419T130658
CREATED:20251103T185220Z
LAST-MODIFIED:20251204T204656Z
UID:10004461-1796371200-1796401800@conexionlaboralsurestepr.org
SUMMARY:Visita Socio | One Stop Careers Center of PR
DESCRIPTION:Programa de Reintegración de Ex-Ofensores bajo Second Change Act
URL:https://conexionlaboralsurestepr.org/event/vista-socio-one-stop-careers-center-of-pr/2026-12-04/
LOCATION:Las Piedras
CATEGORIES:Socios
END:VEVENT
BEGIN:VEVENT
DTSTART;TZID=America/Puerto_Rico:20261206T080000
DTEND;TZID=America/Puerto_Rico:20261206T163000
DTSTAMP:20260419T130658
CREATED:20251103T185220Z
LAST-MODIFIED:20251204T204656Z
UID:10004462-1796544000-1796574600@conexionlaboralsurestepr.org
SUMMARY:Visita Socio | One Stop Careers Center of PR
DESCRIPTION:Programa de Reintegración de Ex-Ofensores bajo Second Change Act
URL:https://conexionlaboralsurestepr.org/event/vista-socio-one-stop-careers-center-of-pr/2026-12-06/
LOCATION:Las Piedras
CATEGORIES:Socios
END:VEVENT
BEGIN:VEVENT
DTSTART;TZID=America/Puerto_Rico:20261207T080000
DTEND;TZID=America/Puerto_Rico:20261207T120000
DTSTAMP:20260419T130658
CREATED:20251103T184249Z
LAST-MODIFIED:20251204T204710Z
UID:10003356-1796630400-1796644800@conexionlaboralsurestepr.org
SUMMARY:Visita Socio | Título I | Administración de Rehabilitación Vocacional
DESCRIPTION:Programa de Adiestramiento y Empleo Rehabilitación Vocacional
URL:https://conexionlaboralsurestepr.org/event/vista-socio-titulo-i-administracion-de-rehabilitacion-vocacional/2026-12-07/
LOCATION:Las Piedras
CATEGORIES:Socios
END:VEVENT
BEGIN:VEVENT
DTSTART;TZID=America/Puerto_Rico:20261207T080000
DTEND;TZID=America/Puerto_Rico:20261207T163000
DTSTAMP:20260419T130658
CREATED:20251031T173045Z
LAST-MODIFIED:20251204T204704Z
UID:10002114-1796630400-1796661000@conexionlaboralsurestepr.org
SUMMARY:Visita Socio | Departamento del Trabajo y Recursos Humanos (DTRH)
DESCRIPTION:Programa Veteranos (Capítulo 41 Título 38 del Código de EU)\nServicio de Empleo\, Programa Agrícola y Programa RESEA\nPrograma Seguro por Desempleo
URL:https://conexionlaboralsurestepr.org/event/vista-socio-departamento-del-trabajo-y-recursos-humanos-dtrh/2026-12-07/
LOCATION:Las Piedras
CATEGORIES:Socios
END:VEVENT
BEGIN:VEVENT
DTSTART;TZID=America/Puerto_Rico:20261207T080000
DTEND;TZID=America/Puerto_Rico:20261207T163000
DTSTAMP:20260419T130658
CREATED:20251103T185220Z
LAST-MODIFIED:20251204T204656Z
UID:10004463-1796630400-1796661000@conexionlaboralsurestepr.org
SUMMARY:Visita Socio | One Stop Careers Center of PR
DESCRIPTION:Programa de Reintegración de Ex-Ofensores bajo Second Change Act
URL:https://conexionlaboralsurestepr.org/event/vista-socio-one-stop-careers-center-of-pr/2026-12-07/
LOCATION:Las Piedras
CATEGORIES:Socios
END:VEVENT
BEGIN:VEVENT
DTSTART;TZID=America/Puerto_Rico:20261208T080000
DTEND;TZID=America/Puerto_Rico:20261208T163000
DTSTAMP:20260419T130658
CREATED:20251031T173045Z
LAST-MODIFIED:20251204T204704Z
UID:10002115-1796716800-1796747400@conexionlaboralsurestepr.org
SUMMARY:Visita Socio | Departamento del Trabajo y Recursos Humanos (DTRH)
DESCRIPTION:Programa Veteranos (Capítulo 41 Título 38 del Código de EU)\nServicio de Empleo\, Programa Agrícola y Programa RESEA\nPrograma Seguro por Desempleo
URL:https://conexionlaboralsurestepr.org/event/vista-socio-departamento-del-trabajo-y-recursos-humanos-dtrh/2026-12-08/
LOCATION:Las Piedras
CATEGORIES:Socios
END:VEVENT
BEGIN:VEVENT
DTSTART;TZID=America/Puerto_Rico:20261208T080000
DTEND;TZID=America/Puerto_Rico:20261208T163000
DTSTAMP:20260419T130658
CREATED:20251103T185220Z
LAST-MODIFIED:20251204T204656Z
UID:10004464-1796716800-1796747400@conexionlaboralsurestepr.org
SUMMARY:Visita Socio | One Stop Careers Center of PR
DESCRIPTION:Programa de Reintegración de Ex-Ofensores bajo Second Change Act
URL:https://conexionlaboralsurestepr.org/event/vista-socio-one-stop-careers-center-of-pr/2026-12-08/
LOCATION:Las Piedras
CATEGORIES:Socios
END:VEVENT
BEGIN:VEVENT
DTSTART;TZID=America/Puerto_Rico:20261209T080000
DTEND;TZID=America/Puerto_Rico:20261209T120000
DTSTAMP:20260419T130658
CREATED:20251103T185047Z
LAST-MODIFIED:20251204T204622Z
UID:10003863-1796803200-1796817600@conexionlaboralsurestepr.org
SUMMARY:Visita Socio | Título IV - "Social Security Act" Departamento de la Familia
DESCRIPTION:Programa TANF (Temporary Assistance for Needy Families)
URL:https://conexionlaboralsurestepr.org/event/vista-socio-titulo-iv-social-security-act-departamento-de-la-familia/2026-12-09/
LOCATION:Las Piedras
CATEGORIES:Socios
END:VEVENT
BEGIN:VEVENT
DTSTART;TZID=America/Puerto_Rico:20261209T080000
DTEND;TZID=America/Puerto_Rico:20261209T163000
DTSTAMP:20260419T130658
CREATED:20251031T173045Z
LAST-MODIFIED:20251204T204704Z
UID:10002116-1796803200-1796833800@conexionlaboralsurestepr.org
SUMMARY:Visita Socio | Departamento del Trabajo y Recursos Humanos (DTRH)
DESCRIPTION:Programa Veteranos (Capítulo 41 Título 38 del Código de EU)\nServicio de Empleo\, Programa Agrícola y Programa RESEA\nPrograma Seguro por Desempleo
URL:https://conexionlaboralsurestepr.org/event/vista-socio-departamento-del-trabajo-y-recursos-humanos-dtrh/2026-12-09/
LOCATION:Las Piedras
CATEGORIES:Socios
END:VEVENT
BEGIN:VEVENT
DTSTART;TZID=America/Puerto_Rico:20261209T080000
DTEND;TZID=America/Puerto_Rico:20261209T163000
DTSTAMP:20260419T130658
CREATED:20251103T185220Z
LAST-MODIFIED:20251204T204656Z
UID:10004465-1796803200-1796833800@conexionlaboralsurestepr.org
SUMMARY:Visita Socio | One Stop Careers Center of PR
DESCRIPTION:Programa de Reintegración de Ex-Ofensores bajo Second Change Act
URL:https://conexionlaboralsurestepr.org/event/vista-socio-one-stop-careers-center-of-pr/2026-12-09/
LOCATION:Las Piedras
CATEGORIES:Socios
END:VEVENT
BEGIN:VEVENT
DTSTART;TZID=America/Puerto_Rico:20261210T080000
DTEND;TZID=America/Puerto_Rico:20261210T163000
DTSTAMP:20260419T130658
CREATED:20251031T173045Z
LAST-MODIFIED:20251204T204704Z
UID:10002117-1796889600-1796920200@conexionlaboralsurestepr.org
SUMMARY:Visita Socio | Departamento del Trabajo y Recursos Humanos (DTRH)
DESCRIPTION:Programa Veteranos (Capítulo 41 Título 38 del Código de EU)\nServicio de Empleo\, Programa Agrícola y Programa RESEA\nPrograma Seguro por Desempleo
URL:https://conexionlaboralsurestepr.org/event/vista-socio-departamento-del-trabajo-y-recursos-humanos-dtrh/2026-12-10/
LOCATION:Las Piedras
CATEGORIES:Socios
END:VEVENT
BEGIN:VEVENT
DTSTART;TZID=America/Puerto_Rico:20261210T080000
DTEND;TZID=America/Puerto_Rico:20261210T163000
DTSTAMP:20260419T130658
CREATED:20251103T184914Z
LAST-MODIFIED:20251204T204647Z
UID:10003593-1796889600-1796920200@conexionlaboralsurestepr.org
SUMMARY:Visita Socio | Título II - Departamento de Educación
DESCRIPTION:Programa de Educación y Literacia de Adultos
URL:https://conexionlaboralsurestepr.org/event/vista-socio-titulo-ii-departamento-de-educacion/2026-12-10/
LOCATION:Las Piedras
CATEGORIES:Socios
END:VEVENT
BEGIN:VEVENT
DTSTART;TZID=America/Puerto_Rico:20261210T080000
DTEND;TZID=America/Puerto_Rico:20261210T163000
DTSTAMP:20260419T130658
CREATED:20251103T185220Z
LAST-MODIFIED:20251204T204656Z
UID:10004466-1796889600-1796920200@conexionlaboralsurestepr.org
SUMMARY:Visita Socio | One Stop Careers Center of PR
DESCRIPTION:Programa de Reintegración de Ex-Ofensores bajo Second Change Act
URL:https://conexionlaboralsurestepr.org/event/vista-socio-one-stop-careers-center-of-pr/2026-12-10/
LOCATION:Las Piedras
CATEGORIES:Socios
END:VEVENT
BEGIN:VEVENT
DTSTART;TZID=America/Puerto_Rico:20261211T080000
DTEND;TZID=America/Puerto_Rico:20261211T163000
DTSTAMP:20260419T130658
CREATED:20251031T153427Z
LAST-MODIFIED:20251031T173748Z
UID:10001445-1796976000-1797006600@conexionlaboralsurestepr.org
SUMMARY:Visita Socio | Título I - B
DESCRIPTION:Programa Jóvenes\, Adultos y Desplazados
URL:https://conexionlaboralsurestepr.org/event/visita-socios-titulo-i-b/2026-12-11/
LOCATION:Las Piedras
CATEGORIES:Socios
END:VEVENT
BEGIN:VEVENT
DTSTART;TZID=America/Puerto_Rico:20261211T080000
DTEND;TZID=America/Puerto_Rico:20261211T163000
DTSTAMP:20260419T130658
CREATED:20251031T173045Z
LAST-MODIFIED:20251204T204704Z
UID:10002118-1796976000-1797006600@conexionlaboralsurestepr.org
SUMMARY:Visita Socio | Departamento del Trabajo y Recursos Humanos (DTRH)
DESCRIPTION:Programa Veteranos (Capítulo 41 Título 38 del Código de EU)\nServicio de Empleo\, Programa Agrícola y Programa RESEA\nPrograma Seguro por Desempleo
URL:https://conexionlaboralsurestepr.org/event/vista-socio-departamento-del-trabajo-y-recursos-humanos-dtrh/2026-12-11/
LOCATION:Las Piedras
CATEGORIES:Socios
END:VEVENT
BEGIN:VEVENT
DTSTART;TZID=America/Puerto_Rico:20261211T080000
DTEND;TZID=America/Puerto_Rico:20261211T163000
DTSTAMP:20260419T130658
CREATED:20251103T185220Z
LAST-MODIFIED:20251204T204656Z
UID:10004467-1796976000-1797006600@conexionlaboralsurestepr.org
SUMMARY:Visita Socio | One Stop Careers Center of PR
DESCRIPTION:Programa de Reintegración de Ex-Ofensores bajo Second Change Act
URL:https://conexionlaboralsurestepr.org/event/vista-socio-one-stop-careers-center-of-pr/2026-12-11/
LOCATION:Las Piedras
CATEGORIES:Socios
END:VEVENT
BEGIN:VEVENT
DTSTART;TZID=America/Puerto_Rico:20261213T080000
DTEND;TZID=America/Puerto_Rico:20261213T163000
DTSTAMP:20260419T130658
CREATED:20251103T185220Z
LAST-MODIFIED:20251204T204656Z
UID:10004468-1797148800-1797179400@conexionlaboralsurestepr.org
SUMMARY:Visita Socio | One Stop Careers Center of PR
DESCRIPTION:Programa de Reintegración de Ex-Ofensores bajo Second Change Act
URL:https://conexionlaboralsurestepr.org/event/vista-socio-one-stop-careers-center-of-pr/2026-12-13/
LOCATION:Las Piedras
CATEGORIES:Socios
END:VEVENT
BEGIN:VEVENT
DTSTART;TZID=America/Puerto_Rico:20261214T080000
DTEND;TZID=America/Puerto_Rico:20261214T163000
DTSTAMP:20260419T130658
CREATED:20251031T173045Z
LAST-MODIFIED:20251204T204704Z
UID:10002119-1797235200-1797265800@conexionlaboralsurestepr.org
SUMMARY:Visita Socio | Departamento del Trabajo y Recursos Humanos (DTRH)
DESCRIPTION:Programa Veteranos (Capítulo 41 Título 38 del Código de EU)\nServicio de Empleo\, Programa Agrícola y Programa RESEA\nPrograma Seguro por Desempleo
URL:https://conexionlaboralsurestepr.org/event/vista-socio-departamento-del-trabajo-y-recursos-humanos-dtrh/2026-12-14/
LOCATION:Las Piedras
CATEGORIES:Socios
END:VEVENT
END:VCALENDAR