BEGIN:VCALENDAR
VERSION:2.0
PRODID:-//Conexión Laboral Sureste - ECPv6.15.20//NONSGML v1.0//EN
CALSCALE:GREGORIAN
METHOD:PUBLISH
X-WR-CALNAME:Conexión Laboral Sureste
X-ORIGINAL-URL:https://conexionlaboralsurestepr.org
X-WR-CALDESC:Events for Conexión Laboral Sureste
REFRESH-INTERVAL;VALUE=DURATION:PT1H
X-Robots-Tag:noindex
X-PUBLISHED-TTL:PT1H
BEGIN:VTIMEZONE
TZID:America/Puerto_Rico
BEGIN:STANDARD
TZOFFSETFROM:-0400
TZOFFSETTO:-0400
TZNAME:AST
DTSTART:20260101T000000
END:STANDARD
END:VTIMEZONE
BEGIN:VEVENT
DTSTART;TZID=America/Puerto_Rico:20270101T080000
DTEND;TZID=America/Puerto_Rico:20270101T163000
DTSTAMP:20260419T154707
CREATED:20251031T153427Z
LAST-MODIFIED:20251031T173748Z
UID:10001448-1798790400-1798821000@conexionlaboralsurestepr.org
SUMMARY:Visita Socio | Título I - B
DESCRIPTION:Programa Jóvenes\, Adultos y Desplazados
URL:https://conexionlaboralsurestepr.org/event/visita-socios-titulo-i-b/2027-01-01/
LOCATION:Las Piedras
CATEGORIES:Socios
END:VEVENT
BEGIN:VEVENT
DTSTART;TZID=America/Puerto_Rico:20270101T080000
DTEND;TZID=America/Puerto_Rico:20270101T163000
DTSTAMP:20260419T154707
CREATED:20251031T173045Z
LAST-MODIFIED:20251204T204704Z
UID:10002133-1798790400-1798821000@conexionlaboralsurestepr.org
SUMMARY:Visita Socio | Departamento del Trabajo y Recursos Humanos (DTRH)
DESCRIPTION:Programa Veteranos (Capítulo 41 Título 38 del Código de EU)\nServicio de Empleo\, Programa Agrícola y Programa RESEA\nPrograma Seguro por Desempleo
URL:https://conexionlaboralsurestepr.org/event/vista-socio-departamento-del-trabajo-y-recursos-humanos-dtrh/2027-01-01/
LOCATION:Las Piedras
CATEGORIES:Socios
END:VEVENT
BEGIN:VEVENT
DTSTART;TZID=America/Puerto_Rico:20270101T080000
DTEND;TZID=America/Puerto_Rico:20270101T163000
DTSTAMP:20260419T154707
CREATED:20251103T185220Z
LAST-MODIFIED:20251204T204656Z
UID:10004485-1798790400-1798821000@conexionlaboralsurestepr.org
SUMMARY:Visita Socio | One Stop Careers Center of PR
DESCRIPTION:Programa de Reintegración de Ex-Ofensores bajo Second Change Act
URL:https://conexionlaboralsurestepr.org/event/vista-socio-one-stop-careers-center-of-pr/2027-01-01/
LOCATION:Las Piedras
CATEGORIES:Socios
END:VEVENT
BEGIN:VEVENT
DTSTART;TZID=America/Puerto_Rico:20270103T080000
DTEND;TZID=America/Puerto_Rico:20270103T163000
DTSTAMP:20260419T154707
CREATED:20251103T185220Z
LAST-MODIFIED:20251204T204656Z
UID:10004486-1798963200-1798993800@conexionlaboralsurestepr.org
SUMMARY:Visita Socio | One Stop Careers Center of PR
DESCRIPTION:Programa de Reintegración de Ex-Ofensores bajo Second Change Act
URL:https://conexionlaboralsurestepr.org/event/vista-socio-one-stop-careers-center-of-pr/2027-01-03/
LOCATION:Las Piedras
CATEGORIES:Socios
END:VEVENT
BEGIN:VEVENT
DTSTART;TZID=America/Puerto_Rico:20270104T080000
DTEND;TZID=America/Puerto_Rico:20270104T120000
DTSTAMP:20260419T154707
CREATED:20251103T184249Z
LAST-MODIFIED:20251204T204710Z
UID:10003357-1799049600-1799064000@conexionlaboralsurestepr.org
SUMMARY:Visita Socio | Título I | Administración de Rehabilitación Vocacional
DESCRIPTION:Programa de Adiestramiento y Empleo Rehabilitación Vocacional
URL:https://conexionlaboralsurestepr.org/event/vista-socio-titulo-i-administracion-de-rehabilitacion-vocacional/2027-01-04/
LOCATION:Las Piedras
CATEGORIES:Socios
END:VEVENT
BEGIN:VEVENT
DTSTART;TZID=America/Puerto_Rico:20270104T080000
DTEND;TZID=America/Puerto_Rico:20270104T163000
DTSTAMP:20260419T154707
CREATED:20251031T153427Z
LAST-MODIFIED:20251031T173748Z
UID:10000308-1799049600-1799080200@conexionlaboralsurestepr.org
SUMMARY:Visita Socio | Título I - B
DESCRIPTION:Programa Jóvenes\, Adultos y Desplazados
URL:https://conexionlaboralsurestepr.org/event/visita-socios-titulo-i-b/2027-01-04/
LOCATION:Las Piedras
CATEGORIES:Socios
END:VEVENT
BEGIN:VEVENT
DTSTART;TZID=America/Puerto_Rico:20270104T080000
DTEND;TZID=America/Puerto_Rico:20270104T163000
DTSTAMP:20260419T154708
CREATED:20251031T173045Z
LAST-MODIFIED:20251204T204704Z
UID:10002134-1799049600-1799080200@conexionlaboralsurestepr.org
SUMMARY:Visita Socio | Departamento del Trabajo y Recursos Humanos (DTRH)
DESCRIPTION:Programa Veteranos (Capítulo 41 Título 38 del Código de EU)\nServicio de Empleo\, Programa Agrícola y Programa RESEA\nPrograma Seguro por Desempleo
URL:https://conexionlaboralsurestepr.org/event/vista-socio-departamento-del-trabajo-y-recursos-humanos-dtrh/2027-01-04/
LOCATION:Las Piedras
CATEGORIES:Socios
END:VEVENT
BEGIN:VEVENT
DTSTART;TZID=America/Puerto_Rico:20270104T080000
DTEND;TZID=America/Puerto_Rico:20270104T163000
DTSTAMP:20260419T154708
CREATED:20251103T185220Z
LAST-MODIFIED:20251204T204656Z
UID:10004487-1799049600-1799080200@conexionlaboralsurestepr.org
SUMMARY:Visita Socio | One Stop Careers Center of PR
DESCRIPTION:Programa de Reintegración de Ex-Ofensores bajo Second Change Act
URL:https://conexionlaboralsurestepr.org/event/vista-socio-one-stop-careers-center-of-pr/2027-01-04/
LOCATION:Las Piedras
CATEGORIES:Socios
END:VEVENT
BEGIN:VEVENT
DTSTART;TZID=America/Puerto_Rico:20270105T080000
DTEND;TZID=America/Puerto_Rico:20270105T120000
DTSTAMP:20260419T154708
CREATED:20251103T184454Z
LAST-MODIFIED:20251204T204641Z
UID:10003419-1799136000-1799150400@conexionlaboralsurestepr.org
SUMMARY:Visita Socio | PathStone Corporation (Rural)
DESCRIPTION:Programa para Trabajadores Agrícolas Migrantes y Estacionales.\nPrograma Youth Build
URL:https://conexionlaboralsurestepr.org/event/vista-socio-pathstone-corporation-rural/2027-01-05/
LOCATION:Las Piedras
CATEGORIES:Socios
END:VEVENT
BEGIN:VEVENT
DTSTART;TZID=America/Puerto_Rico:20270105T080000
DTEND;TZID=America/Puerto_Rico:20270105T120000
DTSTAMP:20260419T154708
CREATED:20251103T184621Z
LAST-MODIFIED:20251204T204632Z
UID:10003481-1799136000-1799150400@conexionlaboralsurestepr.org
SUMMARY:Visita Socio | Título V - Old American Act
DESCRIPTION:Senior Community Services Employment Programs
URL:https://conexionlaboralsurestepr.org/event/vista-socio-titulo-v-old-american-act/2027-01-05/
LOCATION:Las Piedras
CATEGORIES:Socios
END:VEVENT
BEGIN:VEVENT
DTSTART;TZID=America/Puerto_Rico:20270105T080000
DTEND;TZID=America/Puerto_Rico:20270105T163000
DTSTAMP:20260419T154708
CREATED:20251031T153427Z
LAST-MODIFIED:20251031T173748Z
UID:10000309-1799136000-1799166600@conexionlaboralsurestepr.org
SUMMARY:Visita Socio | Título I - B
DESCRIPTION:Programa Jóvenes\, Adultos y Desplazados
URL:https://conexionlaboralsurestepr.org/event/visita-socios-titulo-i-b/2027-01-05/
LOCATION:Las Piedras
CATEGORIES:Socios
END:VEVENT
BEGIN:VEVENT
DTSTART;TZID=America/Puerto_Rico:20270105T080000
DTEND;TZID=America/Puerto_Rico:20270105T163000
DTSTAMP:20260419T154708
CREATED:20251031T173045Z
LAST-MODIFIED:20251204T204704Z
UID:10002135-1799136000-1799166600@conexionlaboralsurestepr.org
SUMMARY:Visita Socio | Departamento del Trabajo y Recursos Humanos (DTRH)
DESCRIPTION:Programa Veteranos (Capítulo 41 Título 38 del Código de EU)\nServicio de Empleo\, Programa Agrícola y Programa RESEA\nPrograma Seguro por Desempleo
URL:https://conexionlaboralsurestepr.org/event/vista-socio-departamento-del-trabajo-y-recursos-humanos-dtrh/2027-01-05/
LOCATION:Las Piedras
CATEGORIES:Socios
END:VEVENT
BEGIN:VEVENT
DTSTART;TZID=America/Puerto_Rico:20270105T080000
DTEND;TZID=America/Puerto_Rico:20270105T163000
DTSTAMP:20260419T154708
CREATED:20251103T185220Z
LAST-MODIFIED:20251204T204656Z
UID:10004488-1799136000-1799166600@conexionlaboralsurestepr.org
SUMMARY:Visita Socio | One Stop Careers Center of PR
DESCRIPTION:Programa de Reintegración de Ex-Ofensores bajo Second Change Act
URL:https://conexionlaboralsurestepr.org/event/vista-socio-one-stop-careers-center-of-pr/2027-01-05/
LOCATION:Las Piedras
CATEGORIES:Socios
END:VEVENT
BEGIN:VEVENT
DTSTART;TZID=America/Puerto_Rico:20270106T080000
DTEND;TZID=America/Puerto_Rico:20270106T120000
DTSTAMP:20260419T154708
CREATED:20251103T185047Z
LAST-MODIFIED:20251204T204622Z
UID:10003867-1799222400-1799236800@conexionlaboralsurestepr.org
SUMMARY:Visita Socio | Título IV - "Social Security Act" Departamento de la Familia
DESCRIPTION:Programa TANF (Temporary Assistance for Needy Families)
URL:https://conexionlaboralsurestepr.org/event/vista-socio-titulo-iv-social-security-act-departamento-de-la-familia/2027-01-06/
LOCATION:Las Piedras
CATEGORIES:Socios
END:VEVENT
BEGIN:VEVENT
DTSTART;TZID=America/Puerto_Rico:20270106T080000
DTEND;TZID=America/Puerto_Rico:20270106T163000
DTSTAMP:20260419T154708
CREATED:20251031T153427Z
LAST-MODIFIED:20251031T173748Z
UID:10000310-1799222400-1799253000@conexionlaboralsurestepr.org
SUMMARY:Visita Socio | Título I - B
DESCRIPTION:Programa Jóvenes\, Adultos y Desplazados
URL:https://conexionlaboralsurestepr.org/event/visita-socios-titulo-i-b/2027-01-06/
LOCATION:Las Piedras
CATEGORIES:Socios
END:VEVENT
BEGIN:VEVENT
DTSTART;TZID=America/Puerto_Rico:20270106T080000
DTEND;TZID=America/Puerto_Rico:20270106T163000
DTSTAMP:20260419T154708
CREATED:20251031T173045Z
LAST-MODIFIED:20251204T204704Z
UID:10002136-1799222400-1799253000@conexionlaboralsurestepr.org
SUMMARY:Visita Socio | Departamento del Trabajo y Recursos Humanos (DTRH)
DESCRIPTION:Programa Veteranos (Capítulo 41 Título 38 del Código de EU)\nServicio de Empleo\, Programa Agrícola y Programa RESEA\nPrograma Seguro por Desempleo
URL:https://conexionlaboralsurestepr.org/event/vista-socio-departamento-del-trabajo-y-recursos-humanos-dtrh/2027-01-06/
LOCATION:Las Piedras
CATEGORIES:Socios
END:VEVENT
BEGIN:VEVENT
DTSTART;TZID=America/Puerto_Rico:20270106T080000
DTEND;TZID=America/Puerto_Rico:20270106T163000
DTSTAMP:20260419T154708
CREATED:20251103T185220Z
LAST-MODIFIED:20251204T204656Z
UID:10004489-1799222400-1799253000@conexionlaboralsurestepr.org
SUMMARY:Visita Socio | One Stop Careers Center of PR
DESCRIPTION:Programa de Reintegración de Ex-Ofensores bajo Second Change Act
URL:https://conexionlaboralsurestepr.org/event/vista-socio-one-stop-careers-center-of-pr/2027-01-06/
LOCATION:Las Piedras
CATEGORIES:Socios
END:VEVENT
BEGIN:VEVENT
DTSTART;TZID=America/Puerto_Rico:20270107T080000
DTEND;TZID=America/Puerto_Rico:20270107T163000
DTSTAMP:20260419T154708
CREATED:20251031T153427Z
LAST-MODIFIED:20251031T173748Z
UID:10000311-1799308800-1799339400@conexionlaboralsurestepr.org
SUMMARY:Visita Socio | Título I - B
DESCRIPTION:Programa Jóvenes\, Adultos y Desplazados
URL:https://conexionlaboralsurestepr.org/event/visita-socios-titulo-i-b/2027-01-07/
LOCATION:Las Piedras
CATEGORIES:Socios
END:VEVENT
BEGIN:VEVENT
DTSTART;TZID=America/Puerto_Rico:20270107T080000
DTEND;TZID=America/Puerto_Rico:20270107T163000
DTSTAMP:20260419T154708
CREATED:20251031T173045Z
LAST-MODIFIED:20251204T204704Z
UID:10002137-1799308800-1799339400@conexionlaboralsurestepr.org
SUMMARY:Visita Socio | Departamento del Trabajo y Recursos Humanos (DTRH)
DESCRIPTION:Programa Veteranos (Capítulo 41 Título 38 del Código de EU)\nServicio de Empleo\, Programa Agrícola y Programa RESEA\nPrograma Seguro por Desempleo
URL:https://conexionlaboralsurestepr.org/event/vista-socio-departamento-del-trabajo-y-recursos-humanos-dtrh/2027-01-07/
LOCATION:Las Piedras
CATEGORIES:Socios
END:VEVENT
BEGIN:VEVENT
DTSTART;TZID=America/Puerto_Rico:20270107T080000
DTEND;TZID=America/Puerto_Rico:20270107T163000
DTSTAMP:20260419T154708
CREATED:20251103T184914Z
LAST-MODIFIED:20251204T204647Z
UID:10003597-1799308800-1799339400@conexionlaboralsurestepr.org
SUMMARY:Visita Socio | Título II - Departamento de Educación
DESCRIPTION:Programa de Educación y Literacia de Adultos
URL:https://conexionlaboralsurestepr.org/event/vista-socio-titulo-ii-departamento-de-educacion/2027-01-07/
LOCATION:Las Piedras
CATEGORIES:Socios
END:VEVENT
BEGIN:VEVENT
DTSTART;TZID=America/Puerto_Rico:20270107T080000
DTEND;TZID=America/Puerto_Rico:20270107T163000
DTSTAMP:20260419T154708
CREATED:20251103T185220Z
LAST-MODIFIED:20251204T204656Z
UID:10004490-1799308800-1799339400@conexionlaboralsurestepr.org
SUMMARY:Visita Socio | One Stop Careers Center of PR
DESCRIPTION:Programa de Reintegración de Ex-Ofensores bajo Second Change Act
URL:https://conexionlaboralsurestepr.org/event/vista-socio-one-stop-careers-center-of-pr/2027-01-07/
LOCATION:Las Piedras
CATEGORIES:Socios
END:VEVENT
BEGIN:VEVENT
DTSTART;TZID=America/Puerto_Rico:20270108T080000
DTEND;TZID=America/Puerto_Rico:20270108T163000
DTSTAMP:20260419T154708
CREATED:20251031T153427Z
LAST-MODIFIED:20251031T173748Z
UID:10001449-1799395200-1799425800@conexionlaboralsurestepr.org
SUMMARY:Visita Socio | Título I - B
DESCRIPTION:Programa Jóvenes\, Adultos y Desplazados
URL:https://conexionlaboralsurestepr.org/event/visita-socios-titulo-i-b/2027-01-08/
LOCATION:Las Piedras
CATEGORIES:Socios
END:VEVENT
BEGIN:VEVENT
DTSTART;TZID=America/Puerto_Rico:20270108T080000
DTEND;TZID=America/Puerto_Rico:20270108T163000
DTSTAMP:20260419T154708
CREATED:20251031T173045Z
LAST-MODIFIED:20251204T204704Z
UID:10002138-1799395200-1799425800@conexionlaboralsurestepr.org
SUMMARY:Visita Socio | Departamento del Trabajo y Recursos Humanos (DTRH)
DESCRIPTION:Programa Veteranos (Capítulo 41 Título 38 del Código de EU)\nServicio de Empleo\, Programa Agrícola y Programa RESEA\nPrograma Seguro por Desempleo
URL:https://conexionlaboralsurestepr.org/event/vista-socio-departamento-del-trabajo-y-recursos-humanos-dtrh/2027-01-08/
LOCATION:Las Piedras
CATEGORIES:Socios
END:VEVENT
BEGIN:VEVENT
DTSTART;TZID=America/Puerto_Rico:20270108T080000
DTEND;TZID=America/Puerto_Rico:20270108T163000
DTSTAMP:20260419T154708
CREATED:20251103T185220Z
LAST-MODIFIED:20251204T204656Z
UID:10004491-1799395200-1799425800@conexionlaboralsurestepr.org
SUMMARY:Visita Socio | One Stop Careers Center of PR
DESCRIPTION:Programa de Reintegración de Ex-Ofensores bajo Second Change Act
URL:https://conexionlaboralsurestepr.org/event/vista-socio-one-stop-careers-center-of-pr/2027-01-08/
LOCATION:Las Piedras
CATEGORIES:Socios
END:VEVENT
BEGIN:VEVENT
DTSTART;TZID=America/Puerto_Rico:20270110T080000
DTEND;TZID=America/Puerto_Rico:20270110T163000
DTSTAMP:20260419T154708
CREATED:20251103T185220Z
LAST-MODIFIED:20251204T204656Z
UID:10004492-1799568000-1799598600@conexionlaboralsurestepr.org
SUMMARY:Visita Socio | One Stop Careers Center of PR
DESCRIPTION:Programa de Reintegración de Ex-Ofensores bajo Second Change Act
URL:https://conexionlaboralsurestepr.org/event/vista-socio-one-stop-careers-center-of-pr/2027-01-10/
LOCATION:Las Piedras
CATEGORIES:Socios
END:VEVENT
BEGIN:VEVENT
DTSTART;TZID=America/Puerto_Rico:20270111T080000
DTEND;TZID=America/Puerto_Rico:20270111T163000
DTSTAMP:20260419T154708
CREATED:20251031T153427Z
LAST-MODIFIED:20251031T173748Z
UID:10000313-1799654400-1799685000@conexionlaboralsurestepr.org
SUMMARY:Visita Socio | Título I - B
DESCRIPTION:Programa Jóvenes\, Adultos y Desplazados
URL:https://conexionlaboralsurestepr.org/event/visita-socios-titulo-i-b/2027-01-11/
LOCATION:Las Piedras
CATEGORIES:Socios
END:VEVENT
BEGIN:VEVENT
DTSTART;TZID=America/Puerto_Rico:20270111T080000
DTEND;TZID=America/Puerto_Rico:20270111T163000
DTSTAMP:20260419T154708
CREATED:20251031T173045Z
LAST-MODIFIED:20251204T204704Z
UID:10002139-1799654400-1799685000@conexionlaboralsurestepr.org
SUMMARY:Visita Socio | Departamento del Trabajo y Recursos Humanos (DTRH)
DESCRIPTION:Programa Veteranos (Capítulo 41 Título 38 del Código de EU)\nServicio de Empleo\, Programa Agrícola y Programa RESEA\nPrograma Seguro por Desempleo
URL:https://conexionlaboralsurestepr.org/event/vista-socio-departamento-del-trabajo-y-recursos-humanos-dtrh/2027-01-11/
LOCATION:Las Piedras
CATEGORIES:Socios
END:VEVENT
BEGIN:VEVENT
DTSTART;TZID=America/Puerto_Rico:20270111T080000
DTEND;TZID=America/Puerto_Rico:20270111T163000
DTSTAMP:20260419T154708
CREATED:20251103T185220Z
LAST-MODIFIED:20251204T204656Z
UID:10004493-1799654400-1799685000@conexionlaboralsurestepr.org
SUMMARY:Visita Socio | One Stop Careers Center of PR
DESCRIPTION:Programa de Reintegración de Ex-Ofensores bajo Second Change Act
URL:https://conexionlaboralsurestepr.org/event/vista-socio-one-stop-careers-center-of-pr/2027-01-11/
LOCATION:Las Piedras
CATEGORIES:Socios
END:VEVENT
BEGIN:VEVENT
DTSTART;TZID=America/Puerto_Rico:20270112T080000
DTEND;TZID=America/Puerto_Rico:20270112T163000
DTSTAMP:20260419T154708
CREATED:20251031T153427Z
LAST-MODIFIED:20251031T173748Z
UID:10000314-1799740800-1799771400@conexionlaboralsurestepr.org
SUMMARY:Visita Socio | Título I - B
DESCRIPTION:Programa Jóvenes\, Adultos y Desplazados
URL:https://conexionlaboralsurestepr.org/event/visita-socios-titulo-i-b/2027-01-12/
LOCATION:Las Piedras
CATEGORIES:Socios
END:VEVENT
BEGIN:VEVENT
DTSTART;TZID=America/Puerto_Rico:20270112T080000
DTEND;TZID=America/Puerto_Rico:20270112T163000
DTSTAMP:20260419T154708
CREATED:20251031T173045Z
LAST-MODIFIED:20251204T204704Z
UID:10002140-1799740800-1799771400@conexionlaboralsurestepr.org
SUMMARY:Visita Socio | Departamento del Trabajo y Recursos Humanos (DTRH)
DESCRIPTION:Programa Veteranos (Capítulo 41 Título 38 del Código de EU)\nServicio de Empleo\, Programa Agrícola y Programa RESEA\nPrograma Seguro por Desempleo
URL:https://conexionlaboralsurestepr.org/event/vista-socio-departamento-del-trabajo-y-recursos-humanos-dtrh/2027-01-12/
LOCATION:Las Piedras
CATEGORIES:Socios
END:VEVENT
END:VCALENDAR