BEGIN:VCALENDAR
VERSION:2.0
PRODID:-//Conexión Laboral Sureste - ECPv6.15.20//NONSGML v1.0//EN
CALSCALE:GREGORIAN
METHOD:PUBLISH
X-WR-CALNAME:Conexión Laboral Sureste
X-ORIGINAL-URL:https://conexionlaboralsurestepr.org
X-WR-CALDESC:Events for Conexión Laboral Sureste
REFRESH-INTERVAL;VALUE=DURATION:PT1H
X-Robots-Tag:noindex
X-PUBLISHED-TTL:PT1H
BEGIN:VTIMEZONE
TZID:America/Puerto_Rico
BEGIN:STANDARD
TZOFFSETFROM:-0400
TZOFFSETTO:-0400
TZNAME:AST
DTSTART:20260101T000000
END:STANDARD
END:VTIMEZONE
BEGIN:VEVENT
DTSTART;TZID=America/Puerto_Rico:20270801T080000
DTEND;TZID=America/Puerto_Rico:20270801T163000
DTSTAMP:20260420T032242
CREATED:20251103T185220Z
LAST-MODIFIED:20251204T204656Z
UID:10004666-1817107200-1817137800@conexionlaboralsurestepr.org
SUMMARY:Visita Socio | One Stop Careers Center of PR
DESCRIPTION:Programa de Reintegración de Ex-Ofensores bajo Second Change Act
URL:https://conexionlaboralsurestepr.org/event/vista-socio-one-stop-careers-center-of-pr/2027-08-01/
LOCATION:Las Piedras
CATEGORIES:Socios
END:VEVENT
BEGIN:VEVENT
DTSTART;TZID=America/Puerto_Rico:20270802T080000
DTEND;TZID=America/Puerto_Rico:20270802T120000
DTSTAMP:20260420T032243
CREATED:20251103T184249Z
LAST-MODIFIED:20251204T204710Z
UID:10003364-1817193600-1817208000@conexionlaboralsurestepr.org
SUMMARY:Visita Socio | Título I | Administración de Rehabilitación Vocacional
DESCRIPTION:Programa de Adiestramiento y Empleo Rehabilitación Vocacional
URL:https://conexionlaboralsurestepr.org/event/vista-socio-titulo-i-administracion-de-rehabilitacion-vocacional/2027-08-02/
LOCATION:Las Piedras
CATEGORIES:Socios
END:VEVENT
BEGIN:VEVENT
DTSTART;TZID=America/Puerto_Rico:20270802T080000
DTEND;TZID=America/Puerto_Rico:20270802T163000
DTSTAMP:20260420T032243
CREATED:20251031T173045Z
LAST-MODIFIED:20251204T204704Z
UID:10002284-1817193600-1817224200@conexionlaboralsurestepr.org
SUMMARY:Visita Socio | Departamento del Trabajo y Recursos Humanos (DTRH)
DESCRIPTION:Programa Veteranos (Capítulo 41 Título 38 del Código de EU)\nServicio de Empleo\, Programa Agrícola y Programa RESEA\nPrograma Seguro por Desempleo
URL:https://conexionlaboralsurestepr.org/event/vista-socio-departamento-del-trabajo-y-recursos-humanos-dtrh/2027-08-02/
LOCATION:Las Piedras
CATEGORIES:Socios
END:VEVENT
BEGIN:VEVENT
DTSTART;TZID=America/Puerto_Rico:20270802T080000
DTEND;TZID=America/Puerto_Rico:20270802T163000
DTSTAMP:20260420T032243
CREATED:20251103T185220Z
LAST-MODIFIED:20251204T204656Z
UID:10004667-1817193600-1817224200@conexionlaboralsurestepr.org
SUMMARY:Visita Socio | One Stop Careers Center of PR
DESCRIPTION:Programa de Reintegración de Ex-Ofensores bajo Second Change Act
URL:https://conexionlaboralsurestepr.org/event/vista-socio-one-stop-careers-center-of-pr/2027-08-02/
LOCATION:Las Piedras
CATEGORIES:Socios
END:VEVENT
BEGIN:VEVENT
DTSTART;TZID=America/Puerto_Rico:20270803T080000
DTEND;TZID=America/Puerto_Rico:20270803T120000
DTSTAMP:20260420T032243
CREATED:20251103T184454Z
LAST-MODIFIED:20251204T204641Z
UID:10003426-1817280000-1817294400@conexionlaboralsurestepr.org
SUMMARY:Visita Socio | PathStone Corporation (Rural)
DESCRIPTION:Programa para Trabajadores Agrícolas Migrantes y Estacionales.\nPrograma Youth Build
URL:https://conexionlaboralsurestepr.org/event/vista-socio-pathstone-corporation-rural/2027-08-03/
LOCATION:Las Piedras
CATEGORIES:Socios
END:VEVENT
BEGIN:VEVENT
DTSTART;TZID=America/Puerto_Rico:20270803T080000
DTEND;TZID=America/Puerto_Rico:20270803T120000
DTSTAMP:20260420T032243
CREATED:20251103T184621Z
LAST-MODIFIED:20251204T204632Z
UID:10003488-1817280000-1817294400@conexionlaboralsurestepr.org
SUMMARY:Visita Socio | Título V - Old American Act
DESCRIPTION:Senior Community Services Employment Programs
URL:https://conexionlaboralsurestepr.org/event/vista-socio-titulo-v-old-american-act/2027-08-03/
LOCATION:Las Piedras
CATEGORIES:Socios
END:VEVENT
BEGIN:VEVENT
DTSTART;TZID=America/Puerto_Rico:20270803T080000
DTEND;TZID=America/Puerto_Rico:20270803T163000
DTSTAMP:20260420T032243
CREATED:20251031T173045Z
LAST-MODIFIED:20251204T204704Z
UID:10002285-1817280000-1817310600@conexionlaboralsurestepr.org
SUMMARY:Visita Socio | Departamento del Trabajo y Recursos Humanos (DTRH)
DESCRIPTION:Programa Veteranos (Capítulo 41 Título 38 del Código de EU)\nServicio de Empleo\, Programa Agrícola y Programa RESEA\nPrograma Seguro por Desempleo
URL:https://conexionlaboralsurestepr.org/event/vista-socio-departamento-del-trabajo-y-recursos-humanos-dtrh/2027-08-03/
LOCATION:Las Piedras
CATEGORIES:Socios
END:VEVENT
BEGIN:VEVENT
DTSTART;TZID=America/Puerto_Rico:20270803T080000
DTEND;TZID=America/Puerto_Rico:20270803T163000
DTSTAMP:20260420T032243
CREATED:20251103T185220Z
LAST-MODIFIED:20251204T204656Z
UID:10004668-1817280000-1817310600@conexionlaboralsurestepr.org
SUMMARY:Visita Socio | One Stop Careers Center of PR
DESCRIPTION:Programa de Reintegración de Ex-Ofensores bajo Second Change Act
URL:https://conexionlaboralsurestepr.org/event/vista-socio-one-stop-careers-center-of-pr/2027-08-03/
LOCATION:Las Piedras
CATEGORIES:Socios
END:VEVENT
BEGIN:VEVENT
DTSTART;TZID=America/Puerto_Rico:20270804T080000
DTEND;TZID=America/Puerto_Rico:20270804T120000
DTSTAMP:20260420T032243
CREATED:20251103T185047Z
LAST-MODIFIED:20251204T204622Z
UID:10003897-1817366400-1817380800@conexionlaboralsurestepr.org
SUMMARY:Visita Socio | Título IV - "Social Security Act" Departamento de la Familia
DESCRIPTION:Programa TANF (Temporary Assistance for Needy Families)
URL:https://conexionlaboralsurestepr.org/event/vista-socio-titulo-iv-social-security-act-departamento-de-la-familia/2027-08-04/
LOCATION:Las Piedras
CATEGORIES:Socios
END:VEVENT
BEGIN:VEVENT
DTSTART;TZID=America/Puerto_Rico:20270804T080000
DTEND;TZID=America/Puerto_Rico:20270804T163000
DTSTAMP:20260420T032243
CREATED:20251031T173045Z
LAST-MODIFIED:20251204T204704Z
UID:10002286-1817366400-1817397000@conexionlaboralsurestepr.org
SUMMARY:Visita Socio | Departamento del Trabajo y Recursos Humanos (DTRH)
DESCRIPTION:Programa Veteranos (Capítulo 41 Título 38 del Código de EU)\nServicio de Empleo\, Programa Agrícola y Programa RESEA\nPrograma Seguro por Desempleo
URL:https://conexionlaboralsurestepr.org/event/vista-socio-departamento-del-trabajo-y-recursos-humanos-dtrh/2027-08-04/
LOCATION:Las Piedras
CATEGORIES:Socios
END:VEVENT
BEGIN:VEVENT
DTSTART;TZID=America/Puerto_Rico:20270804T080000
DTEND;TZID=America/Puerto_Rico:20270804T163000
DTSTAMP:20260420T032243
CREATED:20251103T185220Z
LAST-MODIFIED:20251204T204656Z
UID:10004669-1817366400-1817397000@conexionlaboralsurestepr.org
SUMMARY:Visita Socio | One Stop Careers Center of PR
DESCRIPTION:Programa de Reintegración de Ex-Ofensores bajo Second Change Act
URL:https://conexionlaboralsurestepr.org/event/vista-socio-one-stop-careers-center-of-pr/2027-08-04/
LOCATION:Las Piedras
CATEGORIES:Socios
END:VEVENT
BEGIN:VEVENT
DTSTART;TZID=America/Puerto_Rico:20270805T080000
DTEND;TZID=America/Puerto_Rico:20270805T163000
DTSTAMP:20260420T032243
CREATED:20251031T173045Z
LAST-MODIFIED:20251204T204704Z
UID:10002287-1817452800-1817483400@conexionlaboralsurestepr.org
SUMMARY:Visita Socio | Departamento del Trabajo y Recursos Humanos (DTRH)
DESCRIPTION:Programa Veteranos (Capítulo 41 Título 38 del Código de EU)\nServicio de Empleo\, Programa Agrícola y Programa RESEA\nPrograma Seguro por Desempleo
URL:https://conexionlaboralsurestepr.org/event/vista-socio-departamento-del-trabajo-y-recursos-humanos-dtrh/2027-08-05/
LOCATION:Las Piedras
CATEGORIES:Socios
END:VEVENT
BEGIN:VEVENT
DTSTART;TZID=America/Puerto_Rico:20270805T080000
DTEND;TZID=America/Puerto_Rico:20270805T163000
DTSTAMP:20260420T032243
CREATED:20251103T184914Z
LAST-MODIFIED:20251204T204647Z
UID:10003627-1817452800-1817483400@conexionlaboralsurestepr.org
SUMMARY:Visita Socio | Título II - Departamento de Educación
DESCRIPTION:Programa de Educación y Literacia de Adultos
URL:https://conexionlaboralsurestepr.org/event/vista-socio-titulo-ii-departamento-de-educacion/2027-08-05/
LOCATION:Las Piedras
CATEGORIES:Socios
END:VEVENT
BEGIN:VEVENT
DTSTART;TZID=America/Puerto_Rico:20270805T080000
DTEND;TZID=America/Puerto_Rico:20270805T163000
DTSTAMP:20260420T032243
CREATED:20251103T185220Z
LAST-MODIFIED:20251204T204656Z
UID:10004670-1817452800-1817483400@conexionlaboralsurestepr.org
SUMMARY:Visita Socio | One Stop Careers Center of PR
DESCRIPTION:Programa de Reintegración de Ex-Ofensores bajo Second Change Act
URL:https://conexionlaboralsurestepr.org/event/vista-socio-one-stop-careers-center-of-pr/2027-08-05/
LOCATION:Las Piedras
CATEGORIES:Socios
END:VEVENT
BEGIN:VEVENT
DTSTART;TZID=America/Puerto_Rico:20270806T080000
DTEND;TZID=America/Puerto_Rico:20270806T163000
DTSTAMP:20260420T032243
CREATED:20251031T153427Z
LAST-MODIFIED:20251031T173748Z
UID:10001479-1817539200-1817569800@conexionlaboralsurestepr.org
SUMMARY:Visita Socio | Título I - B
DESCRIPTION:Programa Jóvenes\, Adultos y Desplazados
URL:https://conexionlaboralsurestepr.org/event/visita-socios-titulo-i-b/2027-08-06/
LOCATION:Las Piedras
CATEGORIES:Socios
END:VEVENT
BEGIN:VEVENT
DTSTART;TZID=America/Puerto_Rico:20270806T080000
DTEND;TZID=America/Puerto_Rico:20270806T163000
DTSTAMP:20260420T032243
CREATED:20251031T173045Z
LAST-MODIFIED:20251204T204704Z
UID:10002288-1817539200-1817569800@conexionlaboralsurestepr.org
SUMMARY:Visita Socio | Departamento del Trabajo y Recursos Humanos (DTRH)
DESCRIPTION:Programa Veteranos (Capítulo 41 Título 38 del Código de EU)\nServicio de Empleo\, Programa Agrícola y Programa RESEA\nPrograma Seguro por Desempleo
URL:https://conexionlaboralsurestepr.org/event/vista-socio-departamento-del-trabajo-y-recursos-humanos-dtrh/2027-08-06/
LOCATION:Las Piedras
CATEGORIES:Socios
END:VEVENT
BEGIN:VEVENT
DTSTART;TZID=America/Puerto_Rico:20270806T080000
DTEND;TZID=America/Puerto_Rico:20270806T163000
DTSTAMP:20260420T032243
CREATED:20251103T185220Z
LAST-MODIFIED:20251204T204656Z
UID:10004671-1817539200-1817569800@conexionlaboralsurestepr.org
SUMMARY:Visita Socio | One Stop Careers Center of PR
DESCRIPTION:Programa de Reintegración de Ex-Ofensores bajo Second Change Act
URL:https://conexionlaboralsurestepr.org/event/vista-socio-one-stop-careers-center-of-pr/2027-08-06/
LOCATION:Las Piedras
CATEGORIES:Socios
END:VEVENT
BEGIN:VEVENT
DTSTART;TZID=America/Puerto_Rico:20270808T080000
DTEND;TZID=America/Puerto_Rico:20270808T163000
DTSTAMP:20260420T032243
CREATED:20251103T185220Z
LAST-MODIFIED:20251204T204656Z
UID:10004672-1817712000-1817742600@conexionlaboralsurestepr.org
SUMMARY:Visita Socio | One Stop Careers Center of PR
DESCRIPTION:Programa de Reintegración de Ex-Ofensores bajo Second Change Act
URL:https://conexionlaboralsurestepr.org/event/vista-socio-one-stop-careers-center-of-pr/2027-08-08/
LOCATION:Las Piedras
CATEGORIES:Socios
END:VEVENT
BEGIN:VEVENT
DTSTART;TZID=America/Puerto_Rico:20270809T080000
DTEND;TZID=America/Puerto_Rico:20270809T163000
DTSTAMP:20260420T032243
CREATED:20251031T173045Z
LAST-MODIFIED:20251204T204704Z
UID:10002289-1817798400-1817829000@conexionlaboralsurestepr.org
SUMMARY:Visita Socio | Departamento del Trabajo y Recursos Humanos (DTRH)
DESCRIPTION:Programa Veteranos (Capítulo 41 Título 38 del Código de EU)\nServicio de Empleo\, Programa Agrícola y Programa RESEA\nPrograma Seguro por Desempleo
URL:https://conexionlaboralsurestepr.org/event/vista-socio-departamento-del-trabajo-y-recursos-humanos-dtrh/2027-08-09/
LOCATION:Las Piedras
CATEGORIES:Socios
END:VEVENT
BEGIN:VEVENT
DTSTART;TZID=America/Puerto_Rico:20270809T080000
DTEND;TZID=America/Puerto_Rico:20270809T163000
DTSTAMP:20260420T032243
CREATED:20251103T185220Z
LAST-MODIFIED:20251204T204656Z
UID:10004673-1817798400-1817829000@conexionlaboralsurestepr.org
SUMMARY:Visita Socio | One Stop Careers Center of PR
DESCRIPTION:Programa de Reintegración de Ex-Ofensores bajo Second Change Act
URL:https://conexionlaboralsurestepr.org/event/vista-socio-one-stop-careers-center-of-pr/2027-08-09/
LOCATION:Las Piedras
CATEGORIES:Socios
END:VEVENT
BEGIN:VEVENT
DTSTART;TZID=America/Puerto_Rico:20270810T080000
DTEND;TZID=America/Puerto_Rico:20270810T163000
DTSTAMP:20260420T032243
CREATED:20251031T173045Z
LAST-MODIFIED:20251204T204704Z
UID:10002290-1817884800-1817915400@conexionlaboralsurestepr.org
SUMMARY:Visita Socio | Departamento del Trabajo y Recursos Humanos (DTRH)
DESCRIPTION:Programa Veteranos (Capítulo 41 Título 38 del Código de EU)\nServicio de Empleo\, Programa Agrícola y Programa RESEA\nPrograma Seguro por Desempleo
URL:https://conexionlaboralsurestepr.org/event/vista-socio-departamento-del-trabajo-y-recursos-humanos-dtrh/2027-08-10/
LOCATION:Las Piedras
CATEGORIES:Socios
END:VEVENT
BEGIN:VEVENT
DTSTART;TZID=America/Puerto_Rico:20270810T080000
DTEND;TZID=America/Puerto_Rico:20270810T163000
DTSTAMP:20260420T032243
CREATED:20251103T185220Z
LAST-MODIFIED:20251204T204656Z
UID:10004674-1817884800-1817915400@conexionlaboralsurestepr.org
SUMMARY:Visita Socio | One Stop Careers Center of PR
DESCRIPTION:Programa de Reintegración de Ex-Ofensores bajo Second Change Act
URL:https://conexionlaboralsurestepr.org/event/vista-socio-one-stop-careers-center-of-pr/2027-08-10/
LOCATION:Las Piedras
CATEGORIES:Socios
END:VEVENT
BEGIN:VEVENT
DTSTART;TZID=America/Puerto_Rico:20270811T080000
DTEND;TZID=America/Puerto_Rico:20270811T120000
DTSTAMP:20260420T032243
CREATED:20251103T185047Z
LAST-MODIFIED:20251204T204622Z
UID:10003898-1817971200-1817985600@conexionlaboralsurestepr.org
SUMMARY:Visita Socio | Título IV - "Social Security Act" Departamento de la Familia
DESCRIPTION:Programa TANF (Temporary Assistance for Needy Families)
URL:https://conexionlaboralsurestepr.org/event/vista-socio-titulo-iv-social-security-act-departamento-de-la-familia/2027-08-11/
LOCATION:Las Piedras
CATEGORIES:Socios
END:VEVENT
BEGIN:VEVENT
DTSTART;TZID=America/Puerto_Rico:20270811T080000
DTEND;TZID=America/Puerto_Rico:20270811T163000
DTSTAMP:20260420T032243
CREATED:20251031T173045Z
LAST-MODIFIED:20251204T204704Z
UID:10002291-1817971200-1818001800@conexionlaboralsurestepr.org
SUMMARY:Visita Socio | Departamento del Trabajo y Recursos Humanos (DTRH)
DESCRIPTION:Programa Veteranos (Capítulo 41 Título 38 del Código de EU)\nServicio de Empleo\, Programa Agrícola y Programa RESEA\nPrograma Seguro por Desempleo
URL:https://conexionlaboralsurestepr.org/event/vista-socio-departamento-del-trabajo-y-recursos-humanos-dtrh/2027-08-11/
LOCATION:Las Piedras
CATEGORIES:Socios
END:VEVENT
BEGIN:VEVENT
DTSTART;TZID=America/Puerto_Rico:20270811T080000
DTEND;TZID=America/Puerto_Rico:20270811T163000
DTSTAMP:20260420T032243
CREATED:20251103T185220Z
LAST-MODIFIED:20251204T204656Z
UID:10004675-1817971200-1818001800@conexionlaboralsurestepr.org
SUMMARY:Visita Socio | One Stop Careers Center of PR
DESCRIPTION:Programa de Reintegración de Ex-Ofensores bajo Second Change Act
URL:https://conexionlaboralsurestepr.org/event/vista-socio-one-stop-careers-center-of-pr/2027-08-11/
LOCATION:Las Piedras
CATEGORIES:Socios
END:VEVENT
BEGIN:VEVENT
DTSTART;TZID=America/Puerto_Rico:20270812T080000
DTEND;TZID=America/Puerto_Rico:20270812T163000
DTSTAMP:20260420T032243
CREATED:20251031T173045Z
LAST-MODIFIED:20251204T204704Z
UID:10002292-1818057600-1818088200@conexionlaboralsurestepr.org
SUMMARY:Visita Socio | Departamento del Trabajo y Recursos Humanos (DTRH)
DESCRIPTION:Programa Veteranos (Capítulo 41 Título 38 del Código de EU)\nServicio de Empleo\, Programa Agrícola y Programa RESEA\nPrograma Seguro por Desempleo
URL:https://conexionlaboralsurestepr.org/event/vista-socio-departamento-del-trabajo-y-recursos-humanos-dtrh/2027-08-12/
LOCATION:Las Piedras
CATEGORIES:Socios
END:VEVENT
BEGIN:VEVENT
DTSTART;TZID=America/Puerto_Rico:20270812T080000
DTEND;TZID=America/Puerto_Rico:20270812T163000
DTSTAMP:20260420T032243
CREATED:20251103T184914Z
LAST-MODIFIED:20251204T204647Z
UID:10003628-1818057600-1818088200@conexionlaboralsurestepr.org
SUMMARY:Visita Socio | Título II - Departamento de Educación
DESCRIPTION:Programa de Educación y Literacia de Adultos
URL:https://conexionlaboralsurestepr.org/event/vista-socio-titulo-ii-departamento-de-educacion/2027-08-12/
LOCATION:Las Piedras
CATEGORIES:Socios
END:VEVENT
BEGIN:VEVENT
DTSTART;TZID=America/Puerto_Rico:20270812T080000
DTEND;TZID=America/Puerto_Rico:20270812T163000
DTSTAMP:20260420T032243
CREATED:20251103T185220Z
LAST-MODIFIED:20251204T204656Z
UID:10004676-1818057600-1818088200@conexionlaboralsurestepr.org
SUMMARY:Visita Socio | One Stop Careers Center of PR
DESCRIPTION:Programa de Reintegración de Ex-Ofensores bajo Second Change Act
URL:https://conexionlaboralsurestepr.org/event/vista-socio-one-stop-careers-center-of-pr/2027-08-12/
LOCATION:Las Piedras
CATEGORIES:Socios
END:VEVENT
BEGIN:VEVENT
DTSTART;TZID=America/Puerto_Rico:20270813T080000
DTEND;TZID=America/Puerto_Rico:20270813T163000
DTSTAMP:20260420T032243
CREATED:20251031T153427Z
LAST-MODIFIED:20251031T173748Z
UID:10001480-1818144000-1818174600@conexionlaboralsurestepr.org
SUMMARY:Visita Socio | Título I - B
DESCRIPTION:Programa Jóvenes\, Adultos y Desplazados
URL:https://conexionlaboralsurestepr.org/event/visita-socios-titulo-i-b/2027-08-13/
LOCATION:Las Piedras
CATEGORIES:Socios
END:VEVENT
BEGIN:VEVENT
DTSTART;TZID=America/Puerto_Rico:20270813T080000
DTEND;TZID=America/Puerto_Rico:20270813T163000
DTSTAMP:20260420T032243
CREATED:20251031T173045Z
LAST-MODIFIED:20251204T204704Z
UID:10002293-1818144000-1818174600@conexionlaboralsurestepr.org
SUMMARY:Visita Socio | Departamento del Trabajo y Recursos Humanos (DTRH)
DESCRIPTION:Programa Veteranos (Capítulo 41 Título 38 del Código de EU)\nServicio de Empleo\, Programa Agrícola y Programa RESEA\nPrograma Seguro por Desempleo
URL:https://conexionlaboralsurestepr.org/event/vista-socio-departamento-del-trabajo-y-recursos-humanos-dtrh/2027-08-13/
LOCATION:Las Piedras
CATEGORIES:Socios
END:VEVENT
END:VCALENDAR