BEGIN:VCALENDAR
VERSION:2.0
PRODID:-//Conexión Laboral Sureste - ECPv6.15.20//NONSGML v1.0//EN
CALSCALE:GREGORIAN
METHOD:PUBLISH
X-ORIGINAL-URL:https://conexionlaboralsurestepr.org
X-WR-CALDESC:Events for Conexión Laboral Sureste
REFRESH-INTERVAL;VALUE=DURATION:PT1H
X-Robots-Tag:noindex
X-PUBLISHED-TTL:PT1H
BEGIN:VTIMEZONE
TZID:America/Puerto_Rico
BEGIN:STANDARD
TZOFFSETFROM:-0400
TZOFFSETTO:-0400
TZNAME:AST
DTSTART:20240101T000000
END:STANDARD
END:VTIMEZONE
BEGIN:VEVENT
DTSTART;TZID=America/Puerto_Rico:20251208T080000
DTEND;TZID=America/Puerto_Rico:20251208T163000
DTSTAMP:20260419T194956
CREATED:20251031T153427Z
LAST-MODIFIED:20251031T173748Z
UID:10000028-1765180800-1765211400@conexionlaboralsurestepr.org
SUMMARY:Visita Socio | Título I - B
DESCRIPTION:Programa Jóvenes\, Adultos y Desplazados
URL:https://conexionlaboralsurestepr.org/event/visita-socios-titulo-i-b/2025-12-08/
LOCATION:Las Piedras
CATEGORIES:Socios
END:VEVENT
BEGIN:VEVENT
DTSTART;TZID=America/Puerto_Rico:20251208T080000
DTEND;TZID=America/Puerto_Rico:20251208T163000
DTSTAMP:20260419T194956
CREATED:20251031T173045Z
LAST-MODIFIED:20251204T204704Z
UID:10001854-1765180800-1765211400@conexionlaboralsurestepr.org
SUMMARY:Visita Socio | Departamento del Trabajo y Recursos Humanos (DTRH)
DESCRIPTION:Programa Veteranos (Capítulo 41 Título 38 del Código de EU)\nServicio de Empleo\, Programa Agrícola y Programa RESEA\nPrograma Seguro por Desempleo
URL:https://conexionlaboralsurestepr.org/event/vista-socio-departamento-del-trabajo-y-recursos-humanos-dtrh/2025-12-08/
LOCATION:Las Piedras
CATEGORIES:Socios
END:VEVENT
BEGIN:VEVENT
DTSTART;TZID=America/Puerto_Rico:20251208T080000
DTEND;TZID=America/Puerto_Rico:20251208T163000
DTSTAMP:20260419T194956
CREATED:20251103T185220Z
LAST-MODIFIED:20251204T204656Z
UID:10004151-1765180800-1765211400@conexionlaboralsurestepr.org
SUMMARY:Visita Socio | One Stop Careers Center of PR
DESCRIPTION:Programa de Reintegración de Ex-Ofensores bajo Second Change Act
URL:https://conexionlaboralsurestepr.org/event/vista-socio-one-stop-careers-center-of-pr/2025-12-08/
LOCATION:Las Piedras
CATEGORIES:Socios
END:VEVENT
BEGIN:VEVENT
DTSTART;TZID=America/Puerto_Rico:20251209T080000
DTEND;TZID=America/Puerto_Rico:20251209T163000
DTSTAMP:20260419T194956
CREATED:20251031T153427Z
LAST-MODIFIED:20251031T173748Z
UID:10000029-1765267200-1765297800@conexionlaboralsurestepr.org
SUMMARY:Visita Socio | Título I - B
DESCRIPTION:Programa Jóvenes\, Adultos y Desplazados
URL:https://conexionlaboralsurestepr.org/event/visita-socios-titulo-i-b/2025-12-09/
LOCATION:Las Piedras
CATEGORIES:Socios
END:VEVENT
BEGIN:VEVENT
DTSTART;TZID=America/Puerto_Rico:20251209T080000
DTEND;TZID=America/Puerto_Rico:20251209T163000
DTSTAMP:20260419T194956
CREATED:20251031T173045Z
LAST-MODIFIED:20251204T204704Z
UID:10001855-1765267200-1765297800@conexionlaboralsurestepr.org
SUMMARY:Visita Socio | Departamento del Trabajo y Recursos Humanos (DTRH)
DESCRIPTION:Programa Veteranos (Capítulo 41 Título 38 del Código de EU)\nServicio de Empleo\, Programa Agrícola y Programa RESEA\nPrograma Seguro por Desempleo
URL:https://conexionlaboralsurestepr.org/event/vista-socio-departamento-del-trabajo-y-recursos-humanos-dtrh/2025-12-09/
LOCATION:Las Piedras
CATEGORIES:Socios
END:VEVENT
BEGIN:VEVENT
DTSTART;TZID=America/Puerto_Rico:20251209T080000
DTEND;TZID=America/Puerto_Rico:20251209T163000
DTSTAMP:20260419T194956
CREATED:20251103T185220Z
LAST-MODIFIED:20251204T204656Z
UID:10004152-1765267200-1765297800@conexionlaboralsurestepr.org
SUMMARY:Visita Socio | One Stop Careers Center of PR
DESCRIPTION:Programa de Reintegración de Ex-Ofensores bajo Second Change Act
URL:https://conexionlaboralsurestepr.org/event/vista-socio-one-stop-careers-center-of-pr/2025-12-09/
LOCATION:Las Piedras
CATEGORIES:Socios
END:VEVENT
BEGIN:VEVENT
DTSTART;TZID=America/Puerto_Rico:20251210T080000
DTEND;TZID=America/Puerto_Rico:20251210T120000
DTSTAMP:20260419T194956
CREATED:20251103T185047Z
LAST-MODIFIED:20251204T204622Z
UID:10003811-1765353600-1765368000@conexionlaboralsurestepr.org
SUMMARY:Visita Socio | Título IV - "Social Security Act" Departamento de la Familia
DESCRIPTION:Programa TANF (Temporary Assistance for Needy Families)
URL:https://conexionlaboralsurestepr.org/event/vista-socio-titulo-iv-social-security-act-departamento-de-la-familia/2025-12-10/
LOCATION:Las Piedras
CATEGORIES:Socios
END:VEVENT
BEGIN:VEVENT
DTSTART;TZID=America/Puerto_Rico:20251210T080000
DTEND;TZID=America/Puerto_Rico:20251210T163000
DTSTAMP:20260419T194956
CREATED:20251031T153427Z
LAST-MODIFIED:20251031T173748Z
UID:10000030-1765353600-1765384200@conexionlaboralsurestepr.org
SUMMARY:Visita Socio | Título I - B
DESCRIPTION:Programa Jóvenes\, Adultos y Desplazados
URL:https://conexionlaboralsurestepr.org/event/visita-socios-titulo-i-b/2025-12-10/
LOCATION:Las Piedras
CATEGORIES:Socios
END:VEVENT
BEGIN:VEVENT
DTSTART;TZID=America/Puerto_Rico:20251210T080000
DTEND;TZID=America/Puerto_Rico:20251210T163000
DTSTAMP:20260419T194957
CREATED:20251031T173045Z
LAST-MODIFIED:20251204T204704Z
UID:10001856-1765353600-1765384200@conexionlaboralsurestepr.org
SUMMARY:Visita Socio | Departamento del Trabajo y Recursos Humanos (DTRH)
DESCRIPTION:Programa Veteranos (Capítulo 41 Título 38 del Código de EU)\nServicio de Empleo\, Programa Agrícola y Programa RESEA\nPrograma Seguro por Desempleo
URL:https://conexionlaboralsurestepr.org/event/vista-socio-departamento-del-trabajo-y-recursos-humanos-dtrh/2025-12-10/
LOCATION:Las Piedras
CATEGORIES:Socios
END:VEVENT
BEGIN:VEVENT
DTSTART;TZID=America/Puerto_Rico:20251210T080000
DTEND;TZID=America/Puerto_Rico:20251210T163000
DTSTAMP:20260419T194957
CREATED:20251103T185220Z
LAST-MODIFIED:20251204T204656Z
UID:10004153-1765353600-1765384200@conexionlaboralsurestepr.org
SUMMARY:Visita Socio | One Stop Careers Center of PR
DESCRIPTION:Programa de Reintegración de Ex-Ofensores bajo Second Change Act
URL:https://conexionlaboralsurestepr.org/event/vista-socio-one-stop-careers-center-of-pr/2025-12-10/
LOCATION:Las Piedras
CATEGORIES:Socios
END:VEVENT
BEGIN:VEVENT
DTSTART;TZID=America/Puerto_Rico:20251211T080000
DTEND;TZID=America/Puerto_Rico:20251211T163000
DTSTAMP:20260419T194957
CREATED:20251031T153427Z
LAST-MODIFIED:20251031T173748Z
UID:10000031-1765440000-1765470600@conexionlaboralsurestepr.org
SUMMARY:Visita Socio | Título I - B
DESCRIPTION:Programa Jóvenes\, Adultos y Desplazados
URL:https://conexionlaboralsurestepr.org/event/visita-socios-titulo-i-b/2025-12-11/
LOCATION:Las Piedras
CATEGORIES:Socios
END:VEVENT
BEGIN:VEVENT
DTSTART;TZID=America/Puerto_Rico:20251211T080000
DTEND;TZID=America/Puerto_Rico:20251211T163000
DTSTAMP:20260419T194957
CREATED:20251031T173045Z
LAST-MODIFIED:20251204T204704Z
UID:10001857-1765440000-1765470600@conexionlaboralsurestepr.org
SUMMARY:Visita Socio | Departamento del Trabajo y Recursos Humanos (DTRH)
DESCRIPTION:Programa Veteranos (Capítulo 41 Título 38 del Código de EU)\nServicio de Empleo\, Programa Agrícola y Programa RESEA\nPrograma Seguro por Desempleo
URL:https://conexionlaboralsurestepr.org/event/vista-socio-departamento-del-trabajo-y-recursos-humanos-dtrh/2025-12-11/
LOCATION:Las Piedras
CATEGORIES:Socios
END:VEVENT
BEGIN:VEVENT
DTSTART;TZID=America/Puerto_Rico:20251211T080000
DTEND;TZID=America/Puerto_Rico:20251211T163000
DTSTAMP:20260419T194957
CREATED:20251103T184914Z
LAST-MODIFIED:20251204T204647Z
UID:10003541-1765440000-1765470600@conexionlaboralsurestepr.org
SUMMARY:Visita Socio | Título II - Departamento de Educación
DESCRIPTION:Programa de Educación y Literacia de Adultos
URL:https://conexionlaboralsurestepr.org/event/vista-socio-titulo-ii-departamento-de-educacion/2025-12-11/
LOCATION:Las Piedras
CATEGORIES:Socios
END:VEVENT
BEGIN:VEVENT
DTSTART;TZID=America/Puerto_Rico:20251211T080000
DTEND;TZID=America/Puerto_Rico:20251211T163000
DTSTAMP:20260419T194957
CREATED:20251103T185220Z
LAST-MODIFIED:20251204T204656Z
UID:10004154-1765440000-1765470600@conexionlaboralsurestepr.org
SUMMARY:Visita Socio | One Stop Careers Center of PR
DESCRIPTION:Programa de Reintegración de Ex-Ofensores bajo Second Change Act
URL:https://conexionlaboralsurestepr.org/event/vista-socio-one-stop-careers-center-of-pr/2025-12-11/
LOCATION:Las Piedras
CATEGORIES:Socios
END:VEVENT
BEGIN:VEVENT
DTSTART;TZID=America/Puerto_Rico:20251212T080000
DTEND;TZID=America/Puerto_Rico:20251212T163000
DTSTAMP:20260419T194957
CREATED:20251031T153427Z
LAST-MODIFIED:20251031T173748Z
UID:10001662-1765526400-1765557000@conexionlaboralsurestepr.org
SUMMARY:Visita Socio | Título I - B
DESCRIPTION:Programa Jóvenes\, Adultos y Desplazados
URL:https://conexionlaboralsurestepr.org/event/visita-socios-titulo-i-b/2025-12-12/
LOCATION:Las Piedras
CATEGORIES:Socios
END:VEVENT
BEGIN:VEVENT
DTSTART;TZID=America/Puerto_Rico:20251212T080000
DTEND;TZID=America/Puerto_Rico:20251212T163000
DTSTAMP:20260419T194957
CREATED:20251031T173045Z
LAST-MODIFIED:20251204T204704Z
UID:10001858-1765526400-1765557000@conexionlaboralsurestepr.org
SUMMARY:Visita Socio | Departamento del Trabajo y Recursos Humanos (DTRH)
DESCRIPTION:Programa Veteranos (Capítulo 41 Título 38 del Código de EU)\nServicio de Empleo\, Programa Agrícola y Programa RESEA\nPrograma Seguro por Desempleo
URL:https://conexionlaboralsurestepr.org/event/vista-socio-departamento-del-trabajo-y-recursos-humanos-dtrh/2025-12-12/
LOCATION:Las Piedras
CATEGORIES:Socios
END:VEVENT
BEGIN:VEVENT
DTSTART;TZID=America/Puerto_Rico:20251212T080000
DTEND;TZID=America/Puerto_Rico:20251212T163000
DTSTAMP:20260419T194957
CREATED:20251103T185220Z
LAST-MODIFIED:20251204T204656Z
UID:10004155-1765526400-1765557000@conexionlaboralsurestepr.org
SUMMARY:Visita Socio | One Stop Careers Center of PR
DESCRIPTION:Programa de Reintegración de Ex-Ofensores bajo Second Change Act
URL:https://conexionlaboralsurestepr.org/event/vista-socio-one-stop-careers-center-of-pr/2025-12-12/
LOCATION:Las Piedras
CATEGORIES:Socios
END:VEVENT
BEGIN:VEVENT
DTSTART;TZID=America/Puerto_Rico:20251212T090000
DTEND;TZID=America/Puerto_Rico:20251212T130000
DTSTAMP:20260419T194957
CREATED:20251210T164619Z
LAST-MODIFIED:20251215T165929Z
UID:10005687-1765530000-1765544400@conexionlaboralsurestepr.org
SUMMARY:Feria de Empleo Pollo Tropical Humacao
DESCRIPTION:
URL:https://conexionlaboralsurestepr.org/event/feria-de-empleo-pollo-tropical-humacao/
LOCATION:Calle Dr. Vidal\, Esq. Antonio López\, Humacao\, 00791\, Puerto Rico
CATEGORIES:Eventos
END:VEVENT
BEGIN:VEVENT
DTSTART;TZID=America/Puerto_Rico:20251214T080000
DTEND;TZID=America/Puerto_Rico:20251214T163000
DTSTAMP:20260419T194957
CREATED:20251103T185220Z
LAST-MODIFIED:20251204T204656Z
UID:10004156-1765699200-1765729800@conexionlaboralsurestepr.org
SUMMARY:Visita Socio | One Stop Careers Center of PR
DESCRIPTION:Programa de Reintegración de Ex-Ofensores bajo Second Change Act
URL:https://conexionlaboralsurestepr.org/event/vista-socio-one-stop-careers-center-of-pr/2025-12-14/
LOCATION:Las Piedras
CATEGORIES:Socios
END:VEVENT
END:VCALENDAR