BEGIN:VCALENDAR
VERSION:2.0
PRODID:-//Conexión Laboral Sureste - ECPv6.15.20//NONSGML v1.0//EN
CALSCALE:GREGORIAN
METHOD:PUBLISH
X-ORIGINAL-URL:https://conexionlaboralsurestepr.org
X-WR-CALDESC:Events for Conexión Laboral Sureste
REFRESH-INTERVAL;VALUE=DURATION:PT1H
X-Robots-Tag:noindex
X-PUBLISHED-TTL:PT1H
BEGIN:VTIMEZONE
TZID:America/Puerto_Rico
BEGIN:STANDARD
TZOFFSETFROM:-0400
TZOFFSETTO:-0400
TZNAME:AST
DTSTART:20240101T000000
END:STANDARD
END:VTIMEZONE
BEGIN:VEVENT
DTSTART;TZID=America/Puerto_Rico:20251215T080000
DTEND;TZID=America/Puerto_Rico:20251215T163000
DTSTAMP:20260419T183405
CREATED:20251031T153427Z
LAST-MODIFIED:20251031T173748Z
UID:10000033-1765785600-1765816200@conexionlaboralsurestepr.org
SUMMARY:Visita Socio | Título I - B
DESCRIPTION:Programa Jóvenes\, Adultos y Desplazados
URL:https://conexionlaboralsurestepr.org/event/visita-socios-titulo-i-b/2025-12-15/
LOCATION:Las Piedras
CATEGORIES:Socios
END:VEVENT
BEGIN:VEVENT
DTSTART;TZID=America/Puerto_Rico:20251215T080000
DTEND;TZID=America/Puerto_Rico:20251215T163000
DTSTAMP:20260419T183405
CREATED:20251031T173045Z
LAST-MODIFIED:20251204T204704Z
UID:10001859-1765785600-1765816200@conexionlaboralsurestepr.org
SUMMARY:Visita Socio | Departamento del Trabajo y Recursos Humanos (DTRH)
DESCRIPTION:Programa Veteranos (Capítulo 41 Título 38 del Código de EU)\nServicio de Empleo\, Programa Agrícola y Programa RESEA\nPrograma Seguro por Desempleo
URL:https://conexionlaboralsurestepr.org/event/vista-socio-departamento-del-trabajo-y-recursos-humanos-dtrh/2025-12-15/
LOCATION:Las Piedras
CATEGORIES:Socios
END:VEVENT
BEGIN:VEVENT
DTSTART;TZID=America/Puerto_Rico:20251215T080000
DTEND;TZID=America/Puerto_Rico:20251215T163000
DTSTAMP:20260419T183405
CREATED:20251103T185220Z
LAST-MODIFIED:20251204T204656Z
UID:10004157-1765785600-1765816200@conexionlaboralsurestepr.org
SUMMARY:Visita Socio | One Stop Careers Center of PR
DESCRIPTION:Programa de Reintegración de Ex-Ofensores bajo Second Change Act
URL:https://conexionlaboralsurestepr.org/event/vista-socio-one-stop-careers-center-of-pr/2025-12-15/
LOCATION:Las Piedras
CATEGORIES:Socios
END:VEVENT
BEGIN:VEVENT
DTSTART;TZID=America/Puerto_Rico:20251216T080000
DTEND;TZID=America/Puerto_Rico:20251216T163000
DTSTAMP:20260419T183406
CREATED:20251031T153427Z
LAST-MODIFIED:20251031T173748Z
UID:10000034-1765872000-1765902600@conexionlaboralsurestepr.org
SUMMARY:Visita Socio | Título I - B
DESCRIPTION:Programa Jóvenes\, Adultos y Desplazados
URL:https://conexionlaboralsurestepr.org/event/visita-socios-titulo-i-b/2025-12-16/
LOCATION:Las Piedras
CATEGORIES:Socios
END:VEVENT
BEGIN:VEVENT
DTSTART;TZID=America/Puerto_Rico:20251216T080000
DTEND;TZID=America/Puerto_Rico:20251216T163000
DTSTAMP:20260419T183406
CREATED:20251031T173045Z
LAST-MODIFIED:20251204T204704Z
UID:10001860-1765872000-1765902600@conexionlaboralsurestepr.org
SUMMARY:Visita Socio | Departamento del Trabajo y Recursos Humanos (DTRH)
DESCRIPTION:Programa Veteranos (Capítulo 41 Título 38 del Código de EU)\nServicio de Empleo\, Programa Agrícola y Programa RESEA\nPrograma Seguro por Desempleo
URL:https://conexionlaboralsurestepr.org/event/vista-socio-departamento-del-trabajo-y-recursos-humanos-dtrh/2025-12-16/
LOCATION:Las Piedras
CATEGORIES:Socios
END:VEVENT
BEGIN:VEVENT
DTSTART;TZID=America/Puerto_Rico:20251216T080000
DTEND;TZID=America/Puerto_Rico:20251216T163000
DTSTAMP:20260419T183406
CREATED:20251103T185220Z
LAST-MODIFIED:20251204T204656Z
UID:10004158-1765872000-1765902600@conexionlaboralsurestepr.org
SUMMARY:Visita Socio | One Stop Careers Center of PR
DESCRIPTION:Programa de Reintegración de Ex-Ofensores bajo Second Change Act
URL:https://conexionlaboralsurestepr.org/event/vista-socio-one-stop-careers-center-of-pr/2025-12-16/
LOCATION:Las Piedras
CATEGORIES:Socios
END:VEVENT
BEGIN:VEVENT
DTSTART;TZID=America/Puerto_Rico:20251217T080000
DTEND;TZID=America/Puerto_Rico:20251217T120000
DTSTAMP:20260419T183406
CREATED:20251103T185047Z
LAST-MODIFIED:20251204T204622Z
UID:10003812-1765958400-1765972800@conexionlaboralsurestepr.org
SUMMARY:Visita Socio | Título IV - "Social Security Act" Departamento de la Familia
DESCRIPTION:Programa TANF (Temporary Assistance for Needy Families)
URL:https://conexionlaboralsurestepr.org/event/vista-socio-titulo-iv-social-security-act-departamento-de-la-familia/2025-12-17/
LOCATION:Las Piedras
CATEGORIES:Socios
END:VEVENT
BEGIN:VEVENT
DTSTART;TZID=America/Puerto_Rico:20251217T080000
DTEND;TZID=America/Puerto_Rico:20251217T163000
DTSTAMP:20260419T183406
CREATED:20251031T153427Z
LAST-MODIFIED:20251031T173748Z
UID:10000035-1765958400-1765989000@conexionlaboralsurestepr.org
SUMMARY:Visita Socio | Título I - B
DESCRIPTION:Programa Jóvenes\, Adultos y Desplazados
URL:https://conexionlaboralsurestepr.org/event/visita-socios-titulo-i-b/2025-12-17/
LOCATION:Las Piedras
CATEGORIES:Socios
END:VEVENT
BEGIN:VEVENT
DTSTART;TZID=America/Puerto_Rico:20251217T080000
DTEND;TZID=America/Puerto_Rico:20251217T163000
DTSTAMP:20260419T183406
CREATED:20251031T173045Z
LAST-MODIFIED:20251204T204704Z
UID:10001861-1765958400-1765989000@conexionlaboralsurestepr.org
SUMMARY:Visita Socio | Departamento del Trabajo y Recursos Humanos (DTRH)
DESCRIPTION:Programa Veteranos (Capítulo 41 Título 38 del Código de EU)\nServicio de Empleo\, Programa Agrícola y Programa RESEA\nPrograma Seguro por Desempleo
URL:https://conexionlaboralsurestepr.org/event/vista-socio-departamento-del-trabajo-y-recursos-humanos-dtrh/2025-12-17/
LOCATION:Las Piedras
CATEGORIES:Socios
END:VEVENT
BEGIN:VEVENT
DTSTART;TZID=America/Puerto_Rico:20251217T080000
DTEND;TZID=America/Puerto_Rico:20251217T163000
DTSTAMP:20260419T183406
CREATED:20251103T185220Z
LAST-MODIFIED:20251204T204656Z
UID:10004159-1765958400-1765989000@conexionlaboralsurestepr.org
SUMMARY:Visita Socio | One Stop Careers Center of PR
DESCRIPTION:Programa de Reintegración de Ex-Ofensores bajo Second Change Act
URL:https://conexionlaboralsurestepr.org/event/vista-socio-one-stop-careers-center-of-pr/2025-12-17/
LOCATION:Las Piedras
CATEGORIES:Socios
END:VEVENT
BEGIN:VEVENT
DTSTART;TZID=America/Puerto_Rico:20251218T080000
DTEND;TZID=America/Puerto_Rico:20251218T163000
DTSTAMP:20260419T183406
CREATED:20251031T153427Z
LAST-MODIFIED:20251031T173748Z
UID:10000036-1766044800-1766075400@conexionlaboralsurestepr.org
SUMMARY:Visita Socio | Título I - B
DESCRIPTION:Programa Jóvenes\, Adultos y Desplazados
URL:https://conexionlaboralsurestepr.org/event/visita-socios-titulo-i-b/2025-12-18/
LOCATION:Las Piedras
CATEGORIES:Socios
END:VEVENT
BEGIN:VEVENT
DTSTART;TZID=America/Puerto_Rico:20251218T080000
DTEND;TZID=America/Puerto_Rico:20251218T163000
DTSTAMP:20260419T183406
CREATED:20251031T173045Z
LAST-MODIFIED:20251204T204704Z
UID:10001862-1766044800-1766075400@conexionlaboralsurestepr.org
SUMMARY:Visita Socio | Departamento del Trabajo y Recursos Humanos (DTRH)
DESCRIPTION:Programa Veteranos (Capítulo 41 Título 38 del Código de EU)\nServicio de Empleo\, Programa Agrícola y Programa RESEA\nPrograma Seguro por Desempleo
URL:https://conexionlaboralsurestepr.org/event/vista-socio-departamento-del-trabajo-y-recursos-humanos-dtrh/2025-12-18/
LOCATION:Las Piedras
CATEGORIES:Socios
END:VEVENT
BEGIN:VEVENT
DTSTART;TZID=America/Puerto_Rico:20251218T080000
DTEND;TZID=America/Puerto_Rico:20251218T163000
DTSTAMP:20260419T183406
CREATED:20251103T184914Z
LAST-MODIFIED:20251204T204647Z
UID:10003542-1766044800-1766075400@conexionlaboralsurestepr.org
SUMMARY:Visita Socio | Título II - Departamento de Educación
DESCRIPTION:Programa de Educación y Literacia de Adultos
URL:https://conexionlaboralsurestepr.org/event/vista-socio-titulo-ii-departamento-de-educacion/2025-12-18/
LOCATION:Las Piedras
CATEGORIES:Socios
END:VEVENT
BEGIN:VEVENT
DTSTART;TZID=America/Puerto_Rico:20251218T080000
DTEND;TZID=America/Puerto_Rico:20251218T163000
DTSTAMP:20260419T183406
CREATED:20251103T185220Z
LAST-MODIFIED:20251204T204656Z
UID:10004160-1766044800-1766075400@conexionlaboralsurestepr.org
SUMMARY:Visita Socio | One Stop Careers Center of PR
DESCRIPTION:Programa de Reintegración de Ex-Ofensores bajo Second Change Act
URL:https://conexionlaboralsurestepr.org/event/vista-socio-one-stop-careers-center-of-pr/2025-12-18/
LOCATION:Las Piedras
CATEGORIES:Socios
END:VEVENT
BEGIN:VEVENT
DTSTART;TZID=America/Puerto_Rico:20251219T080000
DTEND;TZID=America/Puerto_Rico:20251219T163000
DTSTAMP:20260419T183406
CREATED:20251031T153427Z
LAST-MODIFIED:20251031T173748Z
UID:10001663-1766131200-1766161800@conexionlaboralsurestepr.org
SUMMARY:Visita Socio | Título I - B
DESCRIPTION:Programa Jóvenes\, Adultos y Desplazados
URL:https://conexionlaboralsurestepr.org/event/visita-socios-titulo-i-b/2025-12-19/
LOCATION:Las Piedras
CATEGORIES:Socios
END:VEVENT
BEGIN:VEVENT
DTSTART;TZID=America/Puerto_Rico:20251219T080000
DTEND;TZID=America/Puerto_Rico:20251219T163000
DTSTAMP:20260419T183406
CREATED:20251031T173045Z
LAST-MODIFIED:20251204T204704Z
UID:10001863-1766131200-1766161800@conexionlaboralsurestepr.org
SUMMARY:Visita Socio | Departamento del Trabajo y Recursos Humanos (DTRH)
DESCRIPTION:Programa Veteranos (Capítulo 41 Título 38 del Código de EU)\nServicio de Empleo\, Programa Agrícola y Programa RESEA\nPrograma Seguro por Desempleo
URL:https://conexionlaboralsurestepr.org/event/vista-socio-departamento-del-trabajo-y-recursos-humanos-dtrh/2025-12-19/
LOCATION:Las Piedras
CATEGORIES:Socios
END:VEVENT
BEGIN:VEVENT
DTSTART;TZID=America/Puerto_Rico:20251219T080000
DTEND;TZID=America/Puerto_Rico:20251219T163000
DTSTAMP:20260419T183406
CREATED:20251103T185220Z
LAST-MODIFIED:20251204T204656Z
UID:10004161-1766131200-1766161800@conexionlaboralsurestepr.org
SUMMARY:Visita Socio | One Stop Careers Center of PR
DESCRIPTION:Programa de Reintegración de Ex-Ofensores bajo Second Change Act
URL:https://conexionlaboralsurestepr.org/event/vista-socio-one-stop-careers-center-of-pr/2025-12-19/
LOCATION:Las Piedras
CATEGORIES:Socios
END:VEVENT
BEGIN:VEVENT
DTSTART;TZID=America/Puerto_Rico:20251219T080000
DTEND;TZID=America/Puerto_Rico:20251219T170000
DTSTAMP:20260419T183406
CREATED:20251219T153908Z
LAST-MODIFIED:20251219T153908Z
UID:10005688-1766131200-1766163600@conexionlaboralsurestepr.org
SUMMARY:testpo
DESCRIPTION:testpopopo
URL:https://conexionlaboralsurestepr.org/event/testpo/
LOCATION:Las Piedras
CATEGORIES:Eventos,Socios
ATTACH;FMTTYPE=image/png:https://conexionlaboralsurestepr.org/wp-content/uploads/job-manager-uploads/company_logo/2025/10/120-4-80x80.png
END:VEVENT
BEGIN:VEVENT
DTSTART;TZID=America/Puerto_Rico:20251221T080000
DTEND;TZID=America/Puerto_Rico:20251221T163000
DTSTAMP:20260419T183406
CREATED:20251103T185220Z
LAST-MODIFIED:20251204T204656Z
UID:10004162-1766304000-1766334600@conexionlaboralsurestepr.org
SUMMARY:Visita Socio | One Stop Careers Center of PR
DESCRIPTION:Programa de Reintegración de Ex-Ofensores bajo Second Change Act
URL:https://conexionlaboralsurestepr.org/event/vista-socio-one-stop-careers-center-of-pr/2025-12-21/
LOCATION:Las Piedras
CATEGORIES:Socios
END:VEVENT
END:VCALENDAR