BEGIN:VCALENDAR
VERSION:2.0
PRODID:-//Conexión Laboral Sureste - ECPv6.15.20//NONSGML v1.0//EN
CALSCALE:GREGORIAN
METHOD:PUBLISH
X-ORIGINAL-URL:https://conexionlaboralsurestepr.org
X-WR-CALDESC:Events for Conexión Laboral Sureste
REFRESH-INTERVAL;VALUE=DURATION:PT1H
X-Robots-Tag:noindex
X-PUBLISHED-TTL:PT1H
BEGIN:VTIMEZONE
TZID:America/Puerto_Rico
BEGIN:STANDARD
TZOFFSETFROM:-0400
TZOFFSETTO:-0400
TZNAME:AST
DTSTART:20250101T000000
END:STANDARD
END:VTIMEZONE
BEGIN:VEVENT
DTSTART;TZID=America/Puerto_Rico:20261102T080000
DTEND;TZID=America/Puerto_Rico:20261102T120000
DTSTAMP:20260419T142808
CREATED:20251103T184249Z
LAST-MODIFIED:20251204T204710Z
UID:10003355-1793606400-1793620800@conexionlaboralsurestepr.org
SUMMARY:Visita Socio | Título I | Administración de Rehabilitación Vocacional
DESCRIPTION:Programa de Adiestramiento y Empleo Rehabilitación Vocacional
URL:https://conexionlaboralsurestepr.org/event/vista-socio-titulo-i-administracion-de-rehabilitacion-vocacional/2026-11-02/
LOCATION:Las Piedras
CATEGORIES:Socios
END:VEVENT
BEGIN:VEVENT
DTSTART;TZID=America/Puerto_Rico:20261102T080000
DTEND;TZID=America/Puerto_Rico:20261102T163000
DTSTAMP:20260419T142808
CREATED:20251031T173045Z
LAST-MODIFIED:20251204T204704Z
UID:10002089-1793606400-1793637000@conexionlaboralsurestepr.org
SUMMARY:Visita Socio | Departamento del Trabajo y Recursos Humanos (DTRH)
DESCRIPTION:Programa Veteranos (Capítulo 41 Título 38 del Código de EU)\nServicio de Empleo\, Programa Agrícola y Programa RESEA\nPrograma Seguro por Desempleo
URL:https://conexionlaboralsurestepr.org/event/vista-socio-departamento-del-trabajo-y-recursos-humanos-dtrh/2026-11-02/
LOCATION:Las Piedras
CATEGORIES:Socios
END:VEVENT
BEGIN:VEVENT
DTSTART;TZID=America/Puerto_Rico:20261102T080000
DTEND;TZID=America/Puerto_Rico:20261102T163000
DTSTAMP:20260419T142808
CREATED:20251103T185220Z
LAST-MODIFIED:20251204T204656Z
UID:10004433-1793606400-1793637000@conexionlaboralsurestepr.org
SUMMARY:Visita Socio | One Stop Careers Center of PR
DESCRIPTION:Programa de Reintegración de Ex-Ofensores bajo Second Change Act
URL:https://conexionlaboralsurestepr.org/event/vista-socio-one-stop-careers-center-of-pr/2026-11-02/
LOCATION:Las Piedras
CATEGORIES:Socios
END:VEVENT
BEGIN:VEVENT
DTSTART;TZID=America/Puerto_Rico:20261103T080000
DTEND;TZID=America/Puerto_Rico:20261103T120000
DTSTAMP:20260419T142808
CREATED:20251103T184454Z
LAST-MODIFIED:20251204T204641Z
UID:10003417-1793692800-1793707200@conexionlaboralsurestepr.org
SUMMARY:Visita Socio | PathStone Corporation (Rural)
DESCRIPTION:Programa para Trabajadores Agrícolas Migrantes y Estacionales.\nPrograma Youth Build
URL:https://conexionlaboralsurestepr.org/event/vista-socio-pathstone-corporation-rural/2026-11-03/
LOCATION:Las Piedras
CATEGORIES:Socios
END:VEVENT
BEGIN:VEVENT
DTSTART;TZID=America/Puerto_Rico:20261103T080000
DTEND;TZID=America/Puerto_Rico:20261103T120000
DTSTAMP:20260419T142808
CREATED:20251103T184621Z
LAST-MODIFIED:20251204T204632Z
UID:10003479-1793692800-1793707200@conexionlaboralsurestepr.org
SUMMARY:Visita Socio | Título V - Old American Act
DESCRIPTION:Senior Community Services Employment Programs
URL:https://conexionlaboralsurestepr.org/event/vista-socio-titulo-v-old-american-act/2026-11-03/
LOCATION:Las Piedras
CATEGORIES:Socios
END:VEVENT
BEGIN:VEVENT
DTSTART;TZID=America/Puerto_Rico:20261103T080000
DTEND;TZID=America/Puerto_Rico:20261103T163000
DTSTAMP:20260419T142808
CREATED:20251031T173045Z
LAST-MODIFIED:20251204T204704Z
UID:10002090-1793692800-1793723400@conexionlaboralsurestepr.org
SUMMARY:Visita Socio | Departamento del Trabajo y Recursos Humanos (DTRH)
DESCRIPTION:Programa Veteranos (Capítulo 41 Título 38 del Código de EU)\nServicio de Empleo\, Programa Agrícola y Programa RESEA\nPrograma Seguro por Desempleo
URL:https://conexionlaboralsurestepr.org/event/vista-socio-departamento-del-trabajo-y-recursos-humanos-dtrh/2026-11-03/
LOCATION:Las Piedras
CATEGORIES:Socios
END:VEVENT
BEGIN:VEVENT
DTSTART;TZID=America/Puerto_Rico:20261103T080000
DTEND;TZID=America/Puerto_Rico:20261103T163000
DTSTAMP:20260419T142808
CREATED:20251103T185220Z
LAST-MODIFIED:20251204T204656Z
UID:10004434-1793692800-1793723400@conexionlaboralsurestepr.org
SUMMARY:Visita Socio | One Stop Careers Center of PR
DESCRIPTION:Programa de Reintegración de Ex-Ofensores bajo Second Change Act
URL:https://conexionlaboralsurestepr.org/event/vista-socio-one-stop-careers-center-of-pr/2026-11-03/
LOCATION:Las Piedras
CATEGORIES:Socios
END:VEVENT
BEGIN:VEVENT
DTSTART;TZID=America/Puerto_Rico:20261104T080000
DTEND;TZID=America/Puerto_Rico:20261104T120000
DTSTAMP:20260419T142808
CREATED:20251103T185047Z
LAST-MODIFIED:20251204T204622Z
UID:10003858-1793779200-1793793600@conexionlaboralsurestepr.org
SUMMARY:Visita Socio | Título IV - "Social Security Act" Departamento de la Familia
DESCRIPTION:Programa TANF (Temporary Assistance for Needy Families)
URL:https://conexionlaboralsurestepr.org/event/vista-socio-titulo-iv-social-security-act-departamento-de-la-familia/2026-11-04/
LOCATION:Las Piedras
CATEGORIES:Socios
END:VEVENT
BEGIN:VEVENT
DTSTART;TZID=America/Puerto_Rico:20261104T080000
DTEND;TZID=America/Puerto_Rico:20261104T163000
DTSTAMP:20260419T142808
CREATED:20251031T173045Z
LAST-MODIFIED:20251204T204704Z
UID:10002091-1793779200-1793809800@conexionlaboralsurestepr.org
SUMMARY:Visita Socio | Departamento del Trabajo y Recursos Humanos (DTRH)
DESCRIPTION:Programa Veteranos (Capítulo 41 Título 38 del Código de EU)\nServicio de Empleo\, Programa Agrícola y Programa RESEA\nPrograma Seguro por Desempleo
URL:https://conexionlaboralsurestepr.org/event/vista-socio-departamento-del-trabajo-y-recursos-humanos-dtrh/2026-11-04/
LOCATION:Las Piedras
CATEGORIES:Socios
END:VEVENT
BEGIN:VEVENT
DTSTART;TZID=America/Puerto_Rico:20261104T080000
DTEND;TZID=America/Puerto_Rico:20261104T163000
DTSTAMP:20260419T142808
CREATED:20251103T185220Z
LAST-MODIFIED:20251204T204656Z
UID:10004435-1793779200-1793809800@conexionlaboralsurestepr.org
SUMMARY:Visita Socio | One Stop Careers Center of PR
DESCRIPTION:Programa de Reintegración de Ex-Ofensores bajo Second Change Act
URL:https://conexionlaboralsurestepr.org/event/vista-socio-one-stop-careers-center-of-pr/2026-11-04/
LOCATION:Las Piedras
CATEGORIES:Socios
END:VEVENT
BEGIN:VEVENT
DTSTART;TZID=America/Puerto_Rico:20261105T080000
DTEND;TZID=America/Puerto_Rico:20261105T163000
DTSTAMP:20260419T142808
CREATED:20251031T173045Z
LAST-MODIFIED:20251204T204704Z
UID:10002092-1793865600-1793896200@conexionlaboralsurestepr.org
SUMMARY:Visita Socio | Departamento del Trabajo y Recursos Humanos (DTRH)
DESCRIPTION:Programa Veteranos (Capítulo 41 Título 38 del Código de EU)\nServicio de Empleo\, Programa Agrícola y Programa RESEA\nPrograma Seguro por Desempleo
URL:https://conexionlaboralsurestepr.org/event/vista-socio-departamento-del-trabajo-y-recursos-humanos-dtrh/2026-11-05/
LOCATION:Las Piedras
CATEGORIES:Socios
END:VEVENT
BEGIN:VEVENT
DTSTART;TZID=America/Puerto_Rico:20261105T080000
DTEND;TZID=America/Puerto_Rico:20261105T163000
DTSTAMP:20260419T142808
CREATED:20251103T184914Z
LAST-MODIFIED:20251204T204647Z
UID:10003588-1793865600-1793896200@conexionlaboralsurestepr.org
SUMMARY:Visita Socio | Título II - Departamento de Educación
DESCRIPTION:Programa de Educación y Literacia de Adultos
URL:https://conexionlaboralsurestepr.org/event/vista-socio-titulo-ii-departamento-de-educacion/2026-11-05/
LOCATION:Las Piedras
CATEGORIES:Socios
END:VEVENT
BEGIN:VEVENT
DTSTART;TZID=America/Puerto_Rico:20261105T080000
DTEND;TZID=America/Puerto_Rico:20261105T163000
DTSTAMP:20260419T142808
CREATED:20251103T185220Z
LAST-MODIFIED:20251204T204656Z
UID:10004436-1793865600-1793896200@conexionlaboralsurestepr.org
SUMMARY:Visita Socio | One Stop Careers Center of PR
DESCRIPTION:Programa de Reintegración de Ex-Ofensores bajo Second Change Act
URL:https://conexionlaboralsurestepr.org/event/vista-socio-one-stop-careers-center-of-pr/2026-11-05/
LOCATION:Las Piedras
CATEGORIES:Socios
END:VEVENT
BEGIN:VEVENT
DTSTART;TZID=America/Puerto_Rico:20261106T080000
DTEND;TZID=America/Puerto_Rico:20261106T163000
DTSTAMP:20260419T142808
CREATED:20251031T173045Z
LAST-MODIFIED:20251204T204704Z
UID:10002093-1793952000-1793982600@conexionlaboralsurestepr.org
SUMMARY:Visita Socio | Departamento del Trabajo y Recursos Humanos (DTRH)
DESCRIPTION:Programa Veteranos (Capítulo 41 Título 38 del Código de EU)\nServicio de Empleo\, Programa Agrícola y Programa RESEA\nPrograma Seguro por Desempleo
URL:https://conexionlaboralsurestepr.org/event/vista-socio-departamento-del-trabajo-y-recursos-humanos-dtrh/2026-11-06/
LOCATION:Las Piedras
CATEGORIES:Socios
END:VEVENT
BEGIN:VEVENT
DTSTART;TZID=America/Puerto_Rico:20261106T080000
DTEND;TZID=America/Puerto_Rico:20261106T163000
DTSTAMP:20260419T142808
CREATED:20251103T185220Z
LAST-MODIFIED:20251204T204656Z
UID:10004437-1793952000-1793982600@conexionlaboralsurestepr.org
SUMMARY:Visita Socio | One Stop Careers Center of PR
DESCRIPTION:Programa de Reintegración de Ex-Ofensores bajo Second Change Act
URL:https://conexionlaboralsurestepr.org/event/vista-socio-one-stop-careers-center-of-pr/2026-11-06/
LOCATION:Las Piedras
CATEGORIES:Socios
END:VEVENT
BEGIN:VEVENT
DTSTART;TZID=America/Puerto_Rico:20261108T080000
DTEND;TZID=America/Puerto_Rico:20261108T163000
DTSTAMP:20260419T142808
CREATED:20251103T185220Z
LAST-MODIFIED:20251204T204656Z
UID:10004438-1794124800-1794155400@conexionlaboralsurestepr.org
SUMMARY:Visita Socio | One Stop Careers Center of PR
DESCRIPTION:Programa de Reintegración de Ex-Ofensores bajo Second Change Act
URL:https://conexionlaboralsurestepr.org/event/vista-socio-one-stop-careers-center-of-pr/2026-11-08/
LOCATION:Las Piedras
CATEGORIES:Socios
END:VEVENT
END:VCALENDAR