BEGIN:VCALENDAR
VERSION:2.0
PRODID:-//Conexión Laboral Sureste - ECPv6.15.20//NONSGML v1.0//EN
CALSCALE:GREGORIAN
METHOD:PUBLISH
X-WR-CALNAME:Conexión Laboral Sureste
X-ORIGINAL-URL:https://conexionlaboralsurestepr.org
X-WR-CALDESC:Events for Conexión Laboral Sureste
REFRESH-INTERVAL;VALUE=DURATION:PT1H
X-Robots-Tag:noindex
X-PUBLISHED-TTL:PT1H
BEGIN:VTIMEZONE
TZID:America/Puerto_Rico
BEGIN:STANDARD
TZOFFSETFROM:-0400
TZOFFSETTO:-0400
TZNAME:AST
DTSTART:20250101T000000
END:STANDARD
END:VTIMEZONE
BEGIN:VEVENT
DTSTART;TZID=America/Puerto_Rico:20261109T080000
DTEND;TZID=America/Puerto_Rico:20261109T163000
DTSTAMP:20260419T182315
CREATED:20251031T173045Z
LAST-MODIFIED:20251204T204704Z
UID:10002094-1794211200-1794241800@conexionlaboralsurestepr.org
SUMMARY:Visita Socio | Departamento del Trabajo y Recursos Humanos (DTRH)
DESCRIPTION:Programa Veteranos (Capítulo 41 Título 38 del Código de EU)\nServicio de Empleo\, Programa Agrícola y Programa RESEA\nPrograma Seguro por Desempleo
URL:https://conexionlaboralsurestepr.org/event/vista-socio-departamento-del-trabajo-y-recursos-humanos-dtrh/2026-11-09/
LOCATION:Las Piedras
CATEGORIES:Socios
END:VEVENT
BEGIN:VEVENT
DTSTART;TZID=America/Puerto_Rico:20261109T080000
DTEND;TZID=America/Puerto_Rico:20261109T163000
DTSTAMP:20260419T182315
CREATED:20251103T185220Z
LAST-MODIFIED:20251204T204656Z
UID:10004439-1794211200-1794241800@conexionlaboralsurestepr.org
SUMMARY:Visita Socio | One Stop Careers Center of PR
DESCRIPTION:Programa de Reintegración de Ex-Ofensores bajo Second Change Act
URL:https://conexionlaboralsurestepr.org/event/vista-socio-one-stop-careers-center-of-pr/2026-11-09/
LOCATION:Las Piedras
CATEGORIES:Socios
END:VEVENT
BEGIN:VEVENT
DTSTART;TZID=America/Puerto_Rico:20261110T080000
DTEND;TZID=America/Puerto_Rico:20261110T163000
DTSTAMP:20260419T182315
CREATED:20251031T173045Z
LAST-MODIFIED:20251204T204704Z
UID:10002095-1794297600-1794328200@conexionlaboralsurestepr.org
SUMMARY:Visita Socio | Departamento del Trabajo y Recursos Humanos (DTRH)
DESCRIPTION:Programa Veteranos (Capítulo 41 Título 38 del Código de EU)\nServicio de Empleo\, Programa Agrícola y Programa RESEA\nPrograma Seguro por Desempleo
URL:https://conexionlaboralsurestepr.org/event/vista-socio-departamento-del-trabajo-y-recursos-humanos-dtrh/2026-11-10/
LOCATION:Las Piedras
CATEGORIES:Socios
END:VEVENT
BEGIN:VEVENT
DTSTART;TZID=America/Puerto_Rico:20261110T080000
DTEND;TZID=America/Puerto_Rico:20261110T163000
DTSTAMP:20260419T182315
CREATED:20251103T185220Z
LAST-MODIFIED:20251204T204656Z
UID:10004440-1794297600-1794328200@conexionlaboralsurestepr.org
SUMMARY:Visita Socio | One Stop Careers Center of PR
DESCRIPTION:Programa de Reintegración de Ex-Ofensores bajo Second Change Act
URL:https://conexionlaboralsurestepr.org/event/vista-socio-one-stop-careers-center-of-pr/2026-11-10/
LOCATION:Las Piedras
CATEGORIES:Socios
END:VEVENT
BEGIN:VEVENT
DTSTART;TZID=America/Puerto_Rico:20261111T080000
DTEND;TZID=America/Puerto_Rico:20261111T120000
DTSTAMP:20260419T182315
CREATED:20251103T185047Z
LAST-MODIFIED:20251204T204622Z
UID:10003859-1794384000-1794398400@conexionlaboralsurestepr.org
SUMMARY:Visita Socio | Título IV - "Social Security Act" Departamento de la Familia
DESCRIPTION:Programa TANF (Temporary Assistance for Needy Families)
URL:https://conexionlaboralsurestepr.org/event/vista-socio-titulo-iv-social-security-act-departamento-de-la-familia/2026-11-11/
LOCATION:Las Piedras
CATEGORIES:Socios
END:VEVENT
BEGIN:VEVENT
DTSTART;TZID=America/Puerto_Rico:20261111T080000
DTEND;TZID=America/Puerto_Rico:20261111T163000
DTSTAMP:20260419T182315
CREATED:20251031T173045Z
LAST-MODIFIED:20251204T204704Z
UID:10002096-1794384000-1794414600@conexionlaboralsurestepr.org
SUMMARY:Visita Socio | Departamento del Trabajo y Recursos Humanos (DTRH)
DESCRIPTION:Programa Veteranos (Capítulo 41 Título 38 del Código de EU)\nServicio de Empleo\, Programa Agrícola y Programa RESEA\nPrograma Seguro por Desempleo
URL:https://conexionlaboralsurestepr.org/event/vista-socio-departamento-del-trabajo-y-recursos-humanos-dtrh/2026-11-11/
LOCATION:Las Piedras
CATEGORIES:Socios
END:VEVENT
BEGIN:VEVENT
DTSTART;TZID=America/Puerto_Rico:20261111T080000
DTEND;TZID=America/Puerto_Rico:20261111T163000
DTSTAMP:20260419T182315
CREATED:20251103T185220Z
LAST-MODIFIED:20251204T204656Z
UID:10004441-1794384000-1794414600@conexionlaboralsurestepr.org
SUMMARY:Visita Socio | One Stop Careers Center of PR
DESCRIPTION:Programa de Reintegración de Ex-Ofensores bajo Second Change Act
URL:https://conexionlaboralsurestepr.org/event/vista-socio-one-stop-careers-center-of-pr/2026-11-11/
LOCATION:Las Piedras
CATEGORIES:Socios
END:VEVENT
BEGIN:VEVENT
DTSTART;TZID=America/Puerto_Rico:20261112T080000
DTEND;TZID=America/Puerto_Rico:20261112T163000
DTSTAMP:20260419T182315
CREATED:20251031T173045Z
LAST-MODIFIED:20251204T204704Z
UID:10002097-1794470400-1794501000@conexionlaboralsurestepr.org
SUMMARY:Visita Socio | Departamento del Trabajo y Recursos Humanos (DTRH)
DESCRIPTION:Programa Veteranos (Capítulo 41 Título 38 del Código de EU)\nServicio de Empleo\, Programa Agrícola y Programa RESEA\nPrograma Seguro por Desempleo
URL:https://conexionlaboralsurestepr.org/event/vista-socio-departamento-del-trabajo-y-recursos-humanos-dtrh/2026-11-12/
LOCATION:Las Piedras
CATEGORIES:Socios
END:VEVENT
BEGIN:VEVENT
DTSTART;TZID=America/Puerto_Rico:20261112T080000
DTEND;TZID=America/Puerto_Rico:20261112T163000
DTSTAMP:20260419T182315
CREATED:20251103T184914Z
LAST-MODIFIED:20251204T204647Z
UID:10003589-1794470400-1794501000@conexionlaboralsurestepr.org
SUMMARY:Visita Socio | Título II - Departamento de Educación
DESCRIPTION:Programa de Educación y Literacia de Adultos
URL:https://conexionlaboralsurestepr.org/event/vista-socio-titulo-ii-departamento-de-educacion/2026-11-12/
LOCATION:Las Piedras
CATEGORIES:Socios
END:VEVENT
BEGIN:VEVENT
DTSTART;TZID=America/Puerto_Rico:20261112T080000
DTEND;TZID=America/Puerto_Rico:20261112T163000
DTSTAMP:20260419T182315
CREATED:20251103T185220Z
LAST-MODIFIED:20251204T204656Z
UID:10004442-1794470400-1794501000@conexionlaboralsurestepr.org
SUMMARY:Visita Socio | One Stop Careers Center of PR
DESCRIPTION:Programa de Reintegración de Ex-Ofensores bajo Second Change Act
URL:https://conexionlaboralsurestepr.org/event/vista-socio-one-stop-careers-center-of-pr/2026-11-12/
LOCATION:Las Piedras
CATEGORIES:Socios
END:VEVENT
BEGIN:VEVENT
DTSTART;TZID=America/Puerto_Rico:20261113T080000
DTEND;TZID=America/Puerto_Rico:20261113T163000
DTSTAMP:20260419T182315
CREATED:20251031T173045Z
LAST-MODIFIED:20251204T204704Z
UID:10002098-1794556800-1794587400@conexionlaboralsurestepr.org
SUMMARY:Visita Socio | Departamento del Trabajo y Recursos Humanos (DTRH)
DESCRIPTION:Programa Veteranos (Capítulo 41 Título 38 del Código de EU)\nServicio de Empleo\, Programa Agrícola y Programa RESEA\nPrograma Seguro por Desempleo
URL:https://conexionlaboralsurestepr.org/event/vista-socio-departamento-del-trabajo-y-recursos-humanos-dtrh/2026-11-13/
LOCATION:Las Piedras
CATEGORIES:Socios
END:VEVENT
BEGIN:VEVENT
DTSTART;TZID=America/Puerto_Rico:20261113T080000
DTEND;TZID=America/Puerto_Rico:20261113T163000
DTSTAMP:20260419T182315
CREATED:20251103T185220Z
LAST-MODIFIED:20251204T204656Z
UID:10004443-1794556800-1794587400@conexionlaboralsurestepr.org
SUMMARY:Visita Socio | One Stop Careers Center of PR
DESCRIPTION:Programa de Reintegración de Ex-Ofensores bajo Second Change Act
URL:https://conexionlaboralsurestepr.org/event/vista-socio-one-stop-careers-center-of-pr/2026-11-13/
LOCATION:Las Piedras
CATEGORIES:Socios
END:VEVENT
BEGIN:VEVENT
DTSTART;TZID=America/Puerto_Rico:20261115T080000
DTEND;TZID=America/Puerto_Rico:20261115T163000
DTSTAMP:20260419T182315
CREATED:20251103T185220Z
LAST-MODIFIED:20251204T204656Z
UID:10004444-1794729600-1794760200@conexionlaboralsurestepr.org
SUMMARY:Visita Socio | One Stop Careers Center of PR
DESCRIPTION:Programa de Reintegración de Ex-Ofensores bajo Second Change Act
URL:https://conexionlaboralsurestepr.org/event/vista-socio-one-stop-careers-center-of-pr/2026-11-15/
LOCATION:Las Piedras
CATEGORIES:Socios
END:VEVENT
END:VCALENDAR