BEGIN:VCALENDAR
VERSION:2.0
PRODID:-//Conexión Laboral Sureste - ECPv6.15.20//NONSGML v1.0//EN
CALSCALE:GREGORIAN
METHOD:PUBLISH
X-ORIGINAL-URL:https://conexionlaboralsurestepr.org
X-WR-CALDESC:Events for Conexión Laboral Sureste
REFRESH-INTERVAL;VALUE=DURATION:PT1H
X-Robots-Tag:noindex
X-PUBLISHED-TTL:PT1H
BEGIN:VTIMEZONE
TZID:America/Puerto_Rico
BEGIN:STANDARD
TZOFFSETFROM:-0400
TZOFFSETTO:-0400
TZNAME:AST
DTSTART:20260101T000000
END:STANDARD
END:VTIMEZONE
BEGIN:VEVENT
DTSTART;TZID=America/Puerto_Rico:20270628T080000
DTEND;TZID=America/Puerto_Rico:20270628T163000
DTSTAMP:20260420T032353
CREATED:20251031T153427Z
LAST-MODIFIED:20251031T173748Z
UID:10000433-1814169600-1814200200@conexionlaboralsurestepr.org
SUMMARY:Visita Socio | Título I - B
DESCRIPTION:Programa Jóvenes\, Adultos y Desplazados
URL:https://conexionlaboralsurestepr.org/event/visita-socios-titulo-i-b/2027-06-28/
LOCATION:Las Piedras
CATEGORIES:Socios
END:VEVENT
BEGIN:VEVENT
DTSTART;TZID=America/Puerto_Rico:20270628T080000
DTEND;TZID=America/Puerto_Rico:20270628T163000
DTSTAMP:20260420T032353
CREATED:20251031T173045Z
LAST-MODIFIED:20251204T204704Z
UID:10002259-1814169600-1814200200@conexionlaboralsurestepr.org
SUMMARY:Visita Socio | Departamento del Trabajo y Recursos Humanos (DTRH)
DESCRIPTION:Programa Veteranos (Capítulo 41 Título 38 del Código de EU)\nServicio de Empleo\, Programa Agrícola y Programa RESEA\nPrograma Seguro por Desempleo
URL:https://conexionlaboralsurestepr.org/event/vista-socio-departamento-del-trabajo-y-recursos-humanos-dtrh/2027-06-28/
LOCATION:Las Piedras
CATEGORIES:Socios
END:VEVENT
BEGIN:VEVENT
DTSTART;TZID=America/Puerto_Rico:20270628T080000
DTEND;TZID=America/Puerto_Rico:20270628T163000
DTSTAMP:20260420T032353
CREATED:20251103T185220Z
LAST-MODIFIED:20251204T204656Z
UID:10004637-1814169600-1814200200@conexionlaboralsurestepr.org
SUMMARY:Visita Socio | One Stop Careers Center of PR
DESCRIPTION:Programa de Reintegración de Ex-Ofensores bajo Second Change Act
URL:https://conexionlaboralsurestepr.org/event/vista-socio-one-stop-careers-center-of-pr/2027-06-28/
LOCATION:Las Piedras
CATEGORIES:Socios
END:VEVENT
BEGIN:VEVENT
DTSTART;TZID=America/Puerto_Rico:20270629T080000
DTEND;TZID=America/Puerto_Rico:20270629T163000
DTSTAMP:20260420T032353
CREATED:20251031T153427Z
LAST-MODIFIED:20251031T173748Z
UID:10000434-1814256000-1814286600@conexionlaboralsurestepr.org
SUMMARY:Visita Socio | Título I - B
DESCRIPTION:Programa Jóvenes\, Adultos y Desplazados
URL:https://conexionlaboralsurestepr.org/event/visita-socios-titulo-i-b/2027-06-29/
LOCATION:Las Piedras
CATEGORIES:Socios
END:VEVENT
BEGIN:VEVENT
DTSTART;TZID=America/Puerto_Rico:20270629T080000
DTEND;TZID=America/Puerto_Rico:20270629T163000
DTSTAMP:20260420T032353
CREATED:20251031T173045Z
LAST-MODIFIED:20251204T204704Z
UID:10002260-1814256000-1814286600@conexionlaboralsurestepr.org
SUMMARY:Visita Socio | Departamento del Trabajo y Recursos Humanos (DTRH)
DESCRIPTION:Programa Veteranos (Capítulo 41 Título 38 del Código de EU)\nServicio de Empleo\, Programa Agrícola y Programa RESEA\nPrograma Seguro por Desempleo
URL:https://conexionlaboralsurestepr.org/event/vista-socio-departamento-del-trabajo-y-recursos-humanos-dtrh/2027-06-29/
LOCATION:Las Piedras
CATEGORIES:Socios
END:VEVENT
BEGIN:VEVENT
DTSTART;TZID=America/Puerto_Rico:20270629T080000
DTEND;TZID=America/Puerto_Rico:20270629T163000
DTSTAMP:20260420T032353
CREATED:20251103T185220Z
LAST-MODIFIED:20251204T204656Z
UID:10004638-1814256000-1814286600@conexionlaboralsurestepr.org
SUMMARY:Visita Socio | One Stop Careers Center of PR
DESCRIPTION:Programa de Reintegración de Ex-Ofensores bajo Second Change Act
URL:https://conexionlaboralsurestepr.org/event/vista-socio-one-stop-careers-center-of-pr/2027-06-29/
LOCATION:Las Piedras
CATEGORIES:Socios
END:VEVENT
BEGIN:VEVENT
DTSTART;TZID=America/Puerto_Rico:20270630T080000
DTEND;TZID=America/Puerto_Rico:20270630T120000
DTSTAMP:20260420T032353
CREATED:20251103T185047Z
LAST-MODIFIED:20251204T204622Z
UID:10003892-1814342400-1814356800@conexionlaboralsurestepr.org
SUMMARY:Visita Socio | Título IV - "Social Security Act" Departamento de la Familia
DESCRIPTION:Programa TANF (Temporary Assistance for Needy Families)
URL:https://conexionlaboralsurestepr.org/event/vista-socio-titulo-iv-social-security-act-departamento-de-la-familia/2027-06-30/
LOCATION:Las Piedras
CATEGORIES:Socios
END:VEVENT
BEGIN:VEVENT
DTSTART;TZID=America/Puerto_Rico:20270630T080000
DTEND;TZID=America/Puerto_Rico:20270630T163000
DTSTAMP:20260420T032353
CREATED:20251031T153427Z
LAST-MODIFIED:20251031T173748Z
UID:10000435-1814342400-1814373000@conexionlaboralsurestepr.org
SUMMARY:Visita Socio | Título I - B
DESCRIPTION:Programa Jóvenes\, Adultos y Desplazados
URL:https://conexionlaboralsurestepr.org/event/visita-socios-titulo-i-b/2027-06-30/
LOCATION:Las Piedras
CATEGORIES:Socios
END:VEVENT
BEGIN:VEVENT
DTSTART;TZID=America/Puerto_Rico:20270630T080000
DTEND;TZID=America/Puerto_Rico:20270630T163000
DTSTAMP:20260420T032353
CREATED:20251031T173045Z
LAST-MODIFIED:20251204T204704Z
UID:10002261-1814342400-1814373000@conexionlaboralsurestepr.org
SUMMARY:Visita Socio | Departamento del Trabajo y Recursos Humanos (DTRH)
DESCRIPTION:Programa Veteranos (Capítulo 41 Título 38 del Código de EU)\nServicio de Empleo\, Programa Agrícola y Programa RESEA\nPrograma Seguro por Desempleo
URL:https://conexionlaboralsurestepr.org/event/vista-socio-departamento-del-trabajo-y-recursos-humanos-dtrh/2027-06-30/
LOCATION:Las Piedras
CATEGORIES:Socios
END:VEVENT
BEGIN:VEVENT
DTSTART;TZID=America/Puerto_Rico:20270630T080000
DTEND;TZID=America/Puerto_Rico:20270630T163000
DTSTAMP:20260420T032353
CREATED:20251103T185220Z
LAST-MODIFIED:20251204T204656Z
UID:10004639-1814342400-1814373000@conexionlaboralsurestepr.org
SUMMARY:Visita Socio | One Stop Careers Center of PR
DESCRIPTION:Programa de Reintegración de Ex-Ofensores bajo Second Change Act
URL:https://conexionlaboralsurestepr.org/event/vista-socio-one-stop-careers-center-of-pr/2027-06-30/
LOCATION:Las Piedras
CATEGORIES:Socios
END:VEVENT
BEGIN:VEVENT
DTSTART;TZID=America/Puerto_Rico:20270701T080000
DTEND;TZID=America/Puerto_Rico:20270701T163000
DTSTAMP:20260420T032353
CREATED:20251031T153427Z
LAST-MODIFIED:20251031T173748Z
UID:10000436-1814428800-1814459400@conexionlaboralsurestepr.org
SUMMARY:Visita Socio | Título I - B
DESCRIPTION:Programa Jóvenes\, Adultos y Desplazados
URL:https://conexionlaboralsurestepr.org/event/visita-socios-titulo-i-b/2027-07-01/
LOCATION:Las Piedras
CATEGORIES:Socios
END:VEVENT
BEGIN:VEVENT
DTSTART;TZID=America/Puerto_Rico:20270701T080000
DTEND;TZID=America/Puerto_Rico:20270701T163000
DTSTAMP:20260420T032353
CREATED:20251031T173045Z
LAST-MODIFIED:20251204T204704Z
UID:10002262-1814428800-1814459400@conexionlaboralsurestepr.org
SUMMARY:Visita Socio | Departamento del Trabajo y Recursos Humanos (DTRH)
DESCRIPTION:Programa Veteranos (Capítulo 41 Título 38 del Código de EU)\nServicio de Empleo\, Programa Agrícola y Programa RESEA\nPrograma Seguro por Desempleo
URL:https://conexionlaboralsurestepr.org/event/vista-socio-departamento-del-trabajo-y-recursos-humanos-dtrh/2027-07-01/
LOCATION:Las Piedras
CATEGORIES:Socios
END:VEVENT
BEGIN:VEVENT
DTSTART;TZID=America/Puerto_Rico:20270701T080000
DTEND;TZID=America/Puerto_Rico:20270701T163000
DTSTAMP:20260420T032353
CREATED:20251103T184914Z
LAST-MODIFIED:20251204T204647Z
UID:10003622-1814428800-1814459400@conexionlaboralsurestepr.org
SUMMARY:Visita Socio | Título II - Departamento de Educación
DESCRIPTION:Programa de Educación y Literacia de Adultos
URL:https://conexionlaboralsurestepr.org/event/vista-socio-titulo-ii-departamento-de-educacion/2027-07-01/
LOCATION:Las Piedras
CATEGORIES:Socios
END:VEVENT
BEGIN:VEVENT
DTSTART;TZID=America/Puerto_Rico:20270701T080000
DTEND;TZID=America/Puerto_Rico:20270701T163000
DTSTAMP:20260420T032353
CREATED:20251103T185220Z
LAST-MODIFIED:20251204T204656Z
UID:10004640-1814428800-1814459400@conexionlaboralsurestepr.org
SUMMARY:Visita Socio | One Stop Careers Center of PR
DESCRIPTION:Programa de Reintegración de Ex-Ofensores bajo Second Change Act
URL:https://conexionlaboralsurestepr.org/event/vista-socio-one-stop-careers-center-of-pr/2027-07-01/
LOCATION:Las Piedras
CATEGORIES:Socios
END:VEVENT
BEGIN:VEVENT
DTSTART;TZID=America/Puerto_Rico:20270702T080000
DTEND;TZID=America/Puerto_Rico:20270702T163000
DTSTAMP:20260420T032353
CREATED:20251031T153427Z
LAST-MODIFIED:20251031T173748Z
UID:10001474-1814515200-1814545800@conexionlaboralsurestepr.org
SUMMARY:Visita Socio | Título I - B
DESCRIPTION:Programa Jóvenes\, Adultos y Desplazados
URL:https://conexionlaboralsurestepr.org/event/visita-socios-titulo-i-b/2027-07-02/
LOCATION:Las Piedras
CATEGORIES:Socios
END:VEVENT
BEGIN:VEVENT
DTSTART;TZID=America/Puerto_Rico:20270702T080000
DTEND;TZID=America/Puerto_Rico:20270702T163000
DTSTAMP:20260420T032353
CREATED:20251031T173045Z
LAST-MODIFIED:20251204T204704Z
UID:10002263-1814515200-1814545800@conexionlaboralsurestepr.org
SUMMARY:Visita Socio | Departamento del Trabajo y Recursos Humanos (DTRH)
DESCRIPTION:Programa Veteranos (Capítulo 41 Título 38 del Código de EU)\nServicio de Empleo\, Programa Agrícola y Programa RESEA\nPrograma Seguro por Desempleo
URL:https://conexionlaboralsurestepr.org/event/vista-socio-departamento-del-trabajo-y-recursos-humanos-dtrh/2027-07-02/
LOCATION:Las Piedras
CATEGORIES:Socios
END:VEVENT
BEGIN:VEVENT
DTSTART;TZID=America/Puerto_Rico:20270702T080000
DTEND;TZID=America/Puerto_Rico:20270702T163000
DTSTAMP:20260420T032353
CREATED:20251103T185220Z
LAST-MODIFIED:20251204T204656Z
UID:10004641-1814515200-1814545800@conexionlaboralsurestepr.org
SUMMARY:Visita Socio | One Stop Careers Center of PR
DESCRIPTION:Programa de Reintegración de Ex-Ofensores bajo Second Change Act
URL:https://conexionlaboralsurestepr.org/event/vista-socio-one-stop-careers-center-of-pr/2027-07-02/
LOCATION:Las Piedras
CATEGORIES:Socios
END:VEVENT
BEGIN:VEVENT
DTSTART;TZID=America/Puerto_Rico:20270704T080000
DTEND;TZID=America/Puerto_Rico:20270704T163000
DTSTAMP:20260420T032354
CREATED:20251103T185220Z
LAST-MODIFIED:20251204T204656Z
UID:10004642-1814688000-1814718600@conexionlaboralsurestepr.org
SUMMARY:Visita Socio | One Stop Careers Center of PR
DESCRIPTION:Programa de Reintegración de Ex-Ofensores bajo Second Change Act
URL:https://conexionlaboralsurestepr.org/event/vista-socio-one-stop-careers-center-of-pr/2027-07-04/
LOCATION:Las Piedras
CATEGORIES:Socios
END:VEVENT
END:VCALENDAR